{"text_format":"3","workbook":"xlsx","n_sheets":3,"sheets":["Marketing Plan 2020","Summary","Description"],"not_rendered":{"charts":2},"read":"whole","date_system":"1900"}

{"sheet":"Marketing Plan 2020","index":0,"n_rows":384,"n_cols":20,"rows_kept":384,"merged":[[5,1,35,1],[36,1,36,9],[37,1,65,1],[66,1,66,9],[67,1,97,1],[98,1,98,9],[99,1,128,1],[129,1,129,9],[130,1,160,1],[161,1,161,9],[162,1,191,1],[192,1,192,9],[193,1,223,1],[224,1,224,9],[225,1,255,1],[256,1,256,9],[257,1,286,1],[287,1,287,9],[288,1,318,1],[319,1,319,9],[320,1,349,1],[350,1,350,9],[351,1,381,1],[382,1,382,9],[383,1,383,9]]}
[]
[null,"Editorial Plan 2020"]
[]
[{"$nulls":4},"Week","Holiday","Article / Task / Subject","Subject - Classification","Author","Release","News","Blog","Facebook","Xing","Google+","Twitter","Youtube","Tuv.","Print","Deadline"]
[{"$nulls":6},"Description","Description","Name","Name","Number","Number","Number","Number","Number","Number","Number","Number","Number","Date"]
[null,"January",1,"We",1,"New Year"]
[null,null,2,"Th"]
[null,null,3,"Fr"]
[null,null,4,"Sa"]
[null,null,5,"Su"]
[null,null,6,"Mo",2]
[null,null,7,"Tu"]
[null,null,8,"We"]
[null,null,9,"Th"]
[null,null,10,"Fr"]
[null,null,11,"Sa"]
[null,null,12,"Su"]
[null,null,13,"Mo",3]
[null,null,14,"Tu"]
[null,null,15,"We"]
[null,null,16,"Th"]
[null,null,17,"Fr"]
[null,null,18,"Sa"]
[null,null,19,"Su"]
[null,null,20,"Mo",4]
[null,null,21,"Tu"]
[null,null,22,"We"]
[null,null,23,"Th"]
[null,null,24,"Fr"]
[null,null,25,"Sa"]
[null,null,26,"Su"]
[null,null,27,"Mo",5]
[null,null,28,"Tu"]
[null,null,29,"We"]
[null,null,30,"Th"]
[null,null,31,"Fr"]
[null,"Subtotal January 2020   ",{"$nulls":8},{"$f":"SUM(K6:K36)","v":0},{"$f":"SUM(L6:L36)","v":0},0,0,0,0,0,0,{"$f":"SUM(S6:S36)","v":0}]
[null,"February",1,"Sa"]
[null,null,2,"Su"]
[null,null,3,"Mo",6]
[null,null,4,"Tu"]
[null,null,5,"We"]
[null,null,6,"Th"]
[null,null,7,"Fr"]
[null,null,8,"Sa"]
[null,null,9,"Su"]
[null,null,10,"Mo",7]
[null,null,11,"Tu"]
[null,null,12,"We"]
[null,null,13,"Th"]
[null,null,14,"Fr",null,"Valentines"]
[null,null,15,"Sa"]
[null,null,16,"Su"]
[null,null,17,"Mo",8]
[null,null,18,"Tu"]
[null,null,19,"We"]
[null,null,20,"Th"]
[null,null,21,"Fr"]
[null,null,22,"Sa"]
[null,null,23,"Su"]
[null,null,24,"Mo",9]
[null,null,25,"Tu"]
[null,null,26,"We"]
[null,null,27,"Th"]
[null,null,28,"Fr"]
[null,null,29,"Sa"]
[null,"Subtotal February 2020   ",{"$nulls":8},{"$f":"SUM(K38:K66)","v":0},0,0,0,0,0,0,0,0]
[null,"March",1,"Su"]
[null,null,2,"Mo",10]
[null,null,3,"Tu"]
[null,null,4,"We"]
[null,null,5,"Th"]
[null,null,6,"Fr"]
[null,null,7,"Sa"]
[null,null,8,"Su"]
[null,null,9,"Mo",11]
[null,null,10,"Tu"]
[null,null,11,"We"]
[null,null,12,"Th"]
[null,null,13,"Fr"]
[null,null,14,"Sa"]
[null,null,15,"Su"]
[null,null,16,"Mo",12]
[null,null,17,"Tu"]
[null,null,18,"We"]
[null,null,19,"Th"]
[null,null,20,"Fr"]
[null,null,21,"Sa"]
[null,null,22,"Su"]
[null,null,23,"Mo",13]
[null,null,24,"Tu"]
[null,null,25,"We"]
[null,null,26,"Th"]
[null,null,27,"Fr"]
[null,null,28,"Sa"]
[null,null,29,"Su"]
[null,null,30,"Mo",14]
[null,null,31,"Tu"]
[null,"Subtotal March 2020   ",{"$nulls":8},{"$f":"SUM(K68:K98)","v":0},{"$f":"SUM(L68:L98)","v":0},0,0,0,0,0,0,0]
[null,"April",1,"We"]
[null,null,2,"Th"]
[null,null,3,"Fr"]
[null,null,4,"Sa"]
[null,null,5,"Su"]
[null,null,6,"Mo",15]
[null,null,7,"Tu"]
[null,null,8,"We"]
[null,null,9,"Th"]
[null,null,10,"Fr",null,"Good Friday"]
[null,null,11,"Sa"]
[null,null,12,"Su",null,"Easter"]
[null,null,13,"Mo",16,"Easter Monday"]
[null,null,14,"Tu"]
[null,null,15,"We"]
[null,null,16,"Th"]
[null,null,17,"Fr"]
[null,null,18,"Sa"]
[null,null,19,"Su"]
[null,null,20,"Mo",17]
[null,null,21,"Tu"]
[null,null,22,"We"]
[null,null,23,"Th"]
[null,null,24,"Fr"]
[null,null,25,"Sa"]
[null,null,26,"Su"]
[null,null,27,"Mo",18]
[null,null,28,"Tu"]
[null,null,29,"We"]
[null,null,30,"Th"]
[null,"Subtotal April 2020   ",{"$nulls":8},{"$f":"SUM(K100:K129)","v":0},{"$f":"SUM(L100:L129)","v":0},0,0,0,0,0,0,0]
[null,"May",1,"Fr"]
[null,null,2,"Sa"]
[null,null,3,"Su"]
[null,null,4,"Mo",19]
[null,null,5,"Tu"]
[null,null,6,"We"]
[null,null,7,"Th"]
[null,null,8,"Fr"]
[null,null,9,"Sa"]
[null,null,10,"Su",null,"Mother's Day"]
[null,null,11,"Mo",20]
[null,null,12,"Tu"]
[null,null,13,"We"]
[null,null,14,"Th"]
[null,null,15,"Fr"]
[null,null,16,"Sa"]
[null,null,17,"Su"]
[null,null,18,"Mo",21]
[null,null,19,"Tu"]
[null,null,20,"We"]
[null,null,21,"Th",null,"Vatertag"]
[null,null,22,"Fr"]
[null,null,23,"Sa"]
[null,null,24,"Su"]
[null,null,25,"Mo",22]
[null,null,26,"Tu"]
[null,null,27,"We"]
[null,null,28,"Th"]
[null,null,29,"Fr"]
[null,null,30,"Sa"]
[null,null,31,"Su",null,"Whitsun"]
[null,"Subtotal May 2020   ",{"$nulls":8},{"$f":"SUM(K131:K161)","v":0},{"$f":"SUM(L131:L161)","v":0},0,0,0,0,0,0,0]
[null,"June",1,"Mo",23,"Whitsun"]
[null,null,2,"Tu"]
[null,null,3,"We"]
[null,null,4,"Th"]
[null,null,5,"Fr"]
[null,null,6,"Sa"]
[null,null,7,"Su"]
[null,null,8,"Mo",24]
[null,null,9,"Tu"]
[null,null,10,"We"]
[null,null,11,"Th"]
[null,null,12,"Fr"]
[null,null,13,"Sa"]
[null,null,14,"Su"]
[null,null,15,"Mo",25]
[null,null,16,"Tu"]
[null,null,17,"We"]
[null,null,18,"Th"]
[null,null,19,"Fr"]
[null,null,20,"Sa"]
[null,null,21,"Su"]
[null,null,22,"Mo",26]
[null,null,23,"Tu"]
[null,null,24,"We"]
[null,null,25,"Th"]
[null,null,26,"Fr"]
[null,null,27,"Sa"]
[null,null,28,"Su"]
[null,null,29,"Mo",27]
[null,null,30,"Tu"]
[null,"Subtotal June 2020   ",{"$nulls":8},{"$f":"SUM(K163:K192)","v":0},{"$f":"SUM(L163:L192)","v":0},0,0,0,0,0,0,0]
[null,"July",1,"We"]
[null,null,2,"Th"]
[null,null,3,"Fr"]
[null,null,4,"Sa",null,"Independence Day"]
[null,null,5,"Su"]
[null,null,6,"Mo",28]
[null,null,7,"Tu"]
[null,null,8,"We"]
[null,null,9,"Th"]
[null,null,10,"Fr"]
[null,null,11,"Sa"]
[null,null,12,"Su"]
[null,null,13,"Mo",29]
[null,null,14,"Tu"]
[null,null,15,"We"]
[null,null,16,"Th"]
[null,null,17,"Fr"]
[null,null,18,"Sa"]
[null,null,19,"Su"]
[null,null,20,"Mo",30]
[null,null,21,"Tu"]
[null,null,22,"We"]
[null,null,23,"Th"]
[null,null,24,"Fr"]
[null,null,25,"Sa"]
[null,null,26,"Su"]
[null,null,27,"Mo",31]
[null,null,28,"Tu"]
[null,null,29,"We"]
[null,null,30,"Th"]
[null,null,31,"Fr"]
[null,"Subtotal July 2020   ",{"$nulls":8},{"$f":"SUM(K194:K224)","v":0},{"$f":"SUM(L194:L224)","v":0},0,0,0,0,0,0,0]
[null,"August",1,"Sa"]
[null,null,2,"Su"]
[null,null,3,"Mo",32]
[null,null,4,"Tu"]
[null,null,5,"We"]
[null,null,6,"Th"]
[null,null,7,"Fr"]
[null,null,8,"Sa",null,"Friedensfest"]
[null,null,9,"Su"]
[null,null,10,"Mo",33]
[null,null,11,"Tu"]
[null,null,12,"We"]
[null,null,13,"Th"]
[null,null,14,"Fr"]
[null,null,15,"Sa",null,"Mariä Himmelfahrt"]
[null,null,16,"Su"]
[null,null,17,"Mo",34]
[null,null,18,"Tu"]
[null,null,19,"We"]
[null,null,20,"Th"]
[null,null,21,"Fr"]
[null,null,22,"Sa"]
[null,null,23,"Su"]
[null,null,24,"Mo",35]
[null,null,25,"Tu"]
[null,null,26,"We"]
[null,null,27,"Th"]
[null,null,28,"Fr"]
[null,null,29,"Sa"]
[null,null,30,"Su"]
[null,null,31,"Mo",36]
[null,"Subtotal August 2020   ",{"$nulls":8},{"$f":"SUM(K226:K256)","v":0},{"$f":"SUM(L226:L256)","v":0},0,0,0,0,0,0,0]
[null,"September",1,"Tu"]
[null,null,2,"We"]
[null,null,3,"Th"]
[null,null,4,"Fr"]
[null,null,5,"Sa"]
[null,null,6,"Su"]
[null,null,7,"Mo",37,"Labor Day"]
[null,null,8,"Tu"]
[null,null,9,"We"]
[null,null,10,"Th"]
[null,null,11,"Fr"]
[null,null,12,"Sa"]
[null,null,13,"Su"]
[null,null,14,"Mo",38]
[null,null,15,"Tu"]
[null,null,16,"We"]
[null,null,17,"Th"]
[null,null,18,"Fr"]
[null,null,19,"Sa"]
[null,null,20,"Su"]
[null,null,21,"Mo",39]
[null,null,22,"Tu"]
[null,null,23,"We"]
[null,null,24,"Th"]
[null,null,25,"Fr"]
[null,null,26,"Sa"]
[null,null,27,"Su"]
[null,null,28,"Mo",40]
[null,null,29,"Tu"]
[null,null,30,"We"]
[null,"Subtotal September 2020   ",{"$nulls":8},{"$f":"SUM(K258:K287)","v":0},{"$f":"SUM(L258:L287)","v":0},0,0,0,0,0,0,0]
[null,"October",1,"Th"]
[null,null,2,"Fr"]
[null,null,3,"Sa"]
[null,null,4,"Su",null,"Harvest Festival"]
[null,null,5,"Mo",41]
[null,null,6,"Tu"]
[null,null,7,"We"]
[null,null,8,"Th"]
[null,null,9,"Fr"]
[null,null,10,"Sa"]
[null,null,11,"Su"]
[null,null,12,"Mo",42]
[null,null,13,"Tu"]
[null,null,14,"We"]
[null,null,15,"Th"]
[null,null,16,"Fr"]
[null,null,17,"Sa"]
[null,null,18,"Su"]
[null,null,19,"Mo",43]
[null,null,20,"Tu"]
[null,null,21,"We"]
[null,null,22,"Th"]
[null,null,23,"Fr"]
[null,null,24,"Sa"]
[null,null,25,"Su"]
[null,null,26,"Mo",44]
[null,null,27,"Tu"]
[null,null,28,"We"]
[null,null,29,"Th"]
[null,null,30,"Fr"]
[null,null,31,"Sa",null,"Halloween"]
[null,"Subtotal October 2020   ",{"$nulls":8},{"$f":"SUM(K289:K319)","v":0},{"$f":"SUM(L289:L319)","v":0},0,0,0,0,0,0,0]
[null,"November",1,"Su"]
[null,null,2,"Mo",45]
[null,null,3,"Tu"]
[null,null,4,"We"]
[null,null,5,"Th"]
[null,null,6,"Fr"]
[null,null,7,"Sa"]
[null,null,8,"Su"]
[null,null,9,"Mo",46]
[null,null,10,"Tu"]
[null,null,11,"We"]
[null,null,12,"Th"]
[null,null,13,"Fr"]
[null,null,14,"Sa"]
[null,null,15,"Su"]
[null,null,16,"Mo",47]
[null,null,17,"Tu"]
[null,null,18,"We"]
[null,null,19,"Th"]
[null,null,20,"Fr"]
[null,null,21,"Sa"]
[null,null,22,"Su"]
[null,null,23,"Mo",48]
[null,null,24,"Tu"]
[null,null,25,"We"]
[null,null,26,"Th"]
[null,null,27,"Fr"]
[null,null,28,"Sa"]
[null,null,29,"Su"]
[null,null,30,"Mo",49]
[null,"Subtotal November 2020   ",{"$nulls":8},{"$f":"SUM(K321:K350)","v":0},{"$f":"SUM(L321:L350)","v":0},0,0,0,0,0,0,0]
[null,"December",1,"Tu"]
[null,null,2,"We"]
[null,null,3,"Th"]
[null,null,4,"Fr"]
[null,null,5,"Sa"]
[null,null,6,"Su"]
[null,null,7,"Mo",50]
[null,null,8,"Tu"]
[null,null,9,"We"]
[null,null,10,"Th"]
[null,null,11,"Fr"]
[null,null,12,"Sa"]
[null,null,13,"Su"]
[null,null,14,"Mo",51]
[null,null,15,"Tu"]
[null,null,16,"We"]
[null,null,17,"Th"]
[null,null,18,"Fr"]
[null,null,19,"Sa"]
[null,null,20,"Su"]
[null,null,21,"Mo",52]
[null,null,22,"Tu"]
[null,null,23,"We"]
[null,null,24,"Th"]
[null,null,25,"Fr",null,"Christmas"]
[null,null,26,"Sa",null,"Christmas"]
[null,null,27,"Su"]
[null,null,28,"Mo",53]
[null,null,29,"Tu"]
[null,null,30,"We"]
[null,null,31,"Th",null,"New Year's Eve"]
[null,"Subtotal December 2020   ",{"$nulls":8},{"$f":"SUM(K352:K382)","v":0},{"$f":"SUM(L352:L382)","v":0},0,0,0,0,0,0,0]
[null,"Total 2020   ",{"$nulls":8},{"$f":"K37+K67+K99+K130+K162+K193+K225+K257+K288+K320+K351+K383","v":0},0,0,0,0,0,0,0,0]

{"sheet":"Summary","index":1,"n_rows":16,"n_cols":17,"rows_kept":16,"merged":[[1,1,1,6]]}
[]
[null,"Evaluation"]
[]
[null,"Monthly ",{"$nulls":13},"Over the year"]
[]
[null,null,"Jan","Feb","Mrz","Apr","Mai","Jun","Jul","Aug","Sept","Okt","Nov","Dez",null,null,2020]
[null,{"$f":"'Marketing Plan 2020'!K4","v":"News"},{"$f":"'Marketing Plan 2020'!K37","v":0},{"$f":"'Marketing Plan 2020'!K67","v":0},{"$f":"'Marketing Plan 2020'!K99","v":0},{"$f":"'Marketing Plan 2020'!K130","v":0},{"$f":"'Marketing Plan 2020'!K162","v":0},{"$f":"'Marketing Plan 2020'!K193","v":0},{"$f":"'Marketing Plan 2020'!K225","v":0},{"$f":"'Marketing Plan 2020'!K257","v":0},{"$f":"'Marketing Plan 2020'!K288","v":0},{"$f":"'Marketing Plan 2020'!K320","v":0},{"$f":"'Marketing Plan 2020'!K351","v":0},{"$f":"'Marketing Plan 2020'!K383","v":0},null,{"$f":"B7","v":"News"},{"$f":"'Marketing Plan 2020'!K384","v":0}]
[null,{"$f":"'Marketing Plan 2020'!L4","v":"Blog"},{"$f":"'Marketing Plan 2020'!L37","v":0},{"$f":"'Marketing Plan 2020'!L67","v":0},{"$f":"'Marketing Plan 2020'!L99","v":0},{"$f":"'Marketing Plan 2020'!L130","v":0},{"$f":"'Marketing Plan 2020'!L162","v":0},{"$f":"'Marketing Plan 2020'!L193","v":0},{"$f":"'Marketing Plan 2020'!L225","v":0},{"$f":"'Marketing Plan 2020'!L257","v":0},{"$f":"'Marketing Plan 2020'!L288","v":0},{"$f":"'Marketing Plan 2020'!L320","v":0},{"$f":"'Marketing Plan 2020'!L351","v":0},{"$f":"'Marketing Plan 2020'!L383","v":0},null,"Blog",{"$f":"'Marketing Plan 2020'!L384","v":0}]
[null,{"$f":"'Marketing Plan 2020'!M4","v":"Facebook"},{"$f":"'Marketing Plan 2020'!M37","v":0},{"$f":"'Marketing Plan 2020'!M67","v":0},{"$f":"'Marketing Plan 2020'!M99","v":0},{"$f":"'Marketing Plan 2020'!M130","v":0},{"$f":"'Marketing Plan 2020'!M162","v":0},{"$f":"'Marketing Plan 2020'!M193","v":0},{"$f":"'Marketing Plan 2020'!M225","v":0},{"$f":"'Marketing Plan 2020'!M257","v":0},{"$f":"'Marketing Plan 2020'!M288","v":0},{"$f":"'Marketing Plan 2020'!M320","v":0},{"$f":"'Marketing Plan 2020'!M351","v":0},{"$f":"'Marketing Plan 2020'!M383","v":0},null,"Facebook",{"$f":"'Marketing Plan 2020'!M384","v":0}]
[null,{"$f":"'Marketing Plan 2020'!N4","v":"Xing"},{"$f":"'Marketing Plan 2020'!N37","v":0},{"$f":"'Marketing Plan 2020'!N67","v":0},{"$f":"'Marketing Plan 2020'!N99","v":0},{"$f":"'Marketing Plan 2020'!N130","v":0},{"$f":"'Marketing Plan 2020'!N162","v":0},{"$f":"'Marketing Plan 2020'!N193","v":0},{"$f":"'Marketing Plan 2020'!N225","v":0},{"$f":"'Marketing Plan 2020'!N257","v":0},{"$f":"'Marketing Plan 2020'!N288","v":0},{"$f":"'Marketing Plan 2020'!N320","v":0},{"$f":"'Marketing Plan 2020'!N351","v":0},{"$f":"'Marketing Plan 2020'!N383","v":0},null,"Xing",{"$f":"'Marketing Plan 2020'!N384","v":0}]
[null,{"$f":"'Marketing Plan 2020'!O4","v":"Google+"},{"$f":"'Marketing Plan 2020'!O37","v":0},{"$f":"'Marketing Plan 2020'!O67","v":0},{"$f":"'Marketing Plan 2020'!O99","v":0},{"$f":"'Marketing Plan 2020'!O130","v":0},{"$f":"'Marketing Plan 2020'!O162","v":0},{"$f":"'Marketing Plan 2020'!O193","v":0},{"$f":"'Marketing Plan 2020'!O225","v":0},{"$f":"'Marketing Plan 2020'!O257","v":0},{"$f":"'Marketing Plan 2020'!O288","v":0},{"$f":"'Marketing Plan 2020'!O320","v":0},{"$f":"'Marketing Plan 2020'!O351","v":0},{"$f":"'Marketing Plan 2020'!O383","v":0},null,"Google+",{"$f":"'Marketing Plan 2020'!O384","v":0}]
[null,{"$f":"'Marketing Plan 2020'!P4","v":"Twitter"},{"$f":"'Marketing Plan 2020'!P37","v":0},{"$f":"'Marketing Plan 2020'!P67","v":0},{"$f":"'Marketing Plan 2020'!P99","v":0},{"$f":"'Marketing Plan 2020'!P130","v":0},{"$f":"'Marketing Plan 2020'!P162","v":0},{"$f":"'Marketing Plan 2020'!P193","v":0},{"$f":"'Marketing Plan 2020'!P225","v":0},{"$f":"'Marketing Plan 2020'!P257","v":0},{"$f":"'Marketing Plan 2020'!P288","v":0},{"$f":"'Marketing Plan 2020'!P320","v":0},{"$f":"'Marketing Plan 2020'!P351","v":0},{"$f":"'Marketing Plan 2020'!P383","v":0},null,"Twitter",{"$f":"'Marketing Plan 2020'!P384","v":0}]
[null,{"$f":"'Marketing Plan 2020'!Q4","v":"Youtube"},{"$f":"'Marketing Plan 2020'!Q37","v":0},{"$f":"'Marketing Plan 2020'!Q67","v":0},{"$f":"'Marketing Plan 2020'!Q99","v":0},{"$f":"'Marketing Plan 2020'!Q130","v":0},{"$f":"'Marketing Plan 2020'!Q162","v":0},{"$f":"'Marketing Plan 2020'!Q193","v":0},{"$f":"'Marketing Plan 2020'!Q225","v":0},{"$f":"'Marketing Plan 2020'!Q257","v":0},{"$f":"'Marketing Plan 2020'!Q288","v":0},{"$f":"'Marketing Plan 2020'!Q320","v":0},{"$f":"'Marketing Plan 2020'!Q351","v":0},{"$f":"'Marketing Plan 2020'!Q383","v":0},null,"Youtube",{"$f":"'Marketing Plan 2020'!Q384","v":0}]
[null,{"$f":"'Marketing Plan 2020'!R4","v":"Tuv."},{"$f":"'Marketing Plan 2020'!R37","v":0},{"$f":"'Marketing Plan 2020'!R67","v":0},{"$f":"'Marketing Plan 2020'!R99","v":0},{"$f":"'Marketing Plan 2020'!R130","v":0},{"$f":"'Marketing Plan 2020'!R162","v":0},{"$f":"'Marketing Plan 2020'!R193","v":0},{"$f":"'Marketing Plan 2020'!R225","v":0},{"$f":"'Marketing Plan 2020'!R257","v":0},{"$f":"'Marketing Plan 2020'!R288","v":0},{"$f":"'Marketing Plan 2020'!R320","v":0},{"$f":"'Marketing Plan 2020'!R351","v":0},{"$f":"'Marketing Plan 2020'!R383","v":0},null,"Tuv.",{"$f":"'Marketing Plan 2020'!R384","v":0}]
[null,{"$f":"'Marketing Plan 2020'!S4","v":"Print"},{"$f":"'Marketing Plan 2020'!S37","v":0},{"$f":"'Marketing Plan 2020'!S67","v":0},{"$f":"'Marketing Plan 2020'!S99","v":0},{"$f":"'Marketing Plan 2020'!S130","v":0},{"$f":"'Marketing Plan 2020'!S162","v":0},{"$f":"'Marketing Plan 2020'!S193","v":0},{"$f":"'Marketing Plan 2020'!S225","v":0},{"$f":"'Marketing Plan 2020'!S257","v":0},{"$f":"'Marketing Plan 2020'!S288","v":0},{"$f":"'Marketing Plan 2020'!S320","v":0},{"$f":"'Marketing Plan 2020'!S351","v":0},{"$f":"'Marketing Plan 2020'!S383","v":0},null,"Print",{"$f":"'Marketing Plan 2020'!S384","v":0}]
[null,null,{"$f":"SUM(C7:C15)","v":0},{"$f":"SUM(D7:D15)","v":0},{"$f":"SUM(E7:E15)","v":0},{"$f":"SUM(F7:F15)","v":0},{"$f":"SUM(G7:G15)","v":0},{"$f":"SUM(H7:H15)","v":0},0,0,0,0,0,{"$f":"SUM(N7:N15)","v":0},null,null,{"$f":"SUM(Q7:Q15)","v":0}]

{"sheet":"Description","index":2,"n_rows":2,"n_cols":1,"rows_kept":2}
["Further information here:"]
["http://excel-template.net/editorial-plan-2020/"]