{"text_format":"3","workbook":"xlsx","n_sheets":13,"sheets":["Overview","January","February","March","April","May","June","July","August","September","October","November","December"],"not_rendered":{"charts":73,"defined_names":16},"read":"whole","date_system":"1900"}

{"sheet":"Overview","index":0,"n_rows":13,"n_cols":8,"rows_kept":13,"merged":[[0,3,0,7],[3,3,3,4]]}
[{"$nulls":3},"Annual overview"]
[{"$nulls":3},"Name","Susi Sorglos",null,"Year",2014]
[]
[{"$nulls":5},"Maximum values","Average values","Lowest values"]
[{"$nulls":3},"Systolic","morning",{"$f":"MAX(January!$B$4:$B$34)","v":130},{"$f":"AVERAGE(January!$B$4:$B$34)","v":130},{"$f":"MIN(January!$B$4:$B$34)","v":130}]
[{"$nulls":4},"midday",{"$f":"MAX(January!$G$4:$G$34)","v":135},{"$f":"AVERAGE(January!$G$4:$G$34)","v":135},{"$f":"MIN(January!$G$4:$G$34)","v":135}]
[{"$nulls":4},"evening",{"$f":"MAX(January!$L$4:$L$34)","v":124},{"$f":"AVERAGE(January!$L$4:$L$34)","v":124},{"$f":"MIN(January!$L$4:$L$34)","v":124}]
[{"$nulls":3},"Diastolic","morning",{"$f":"MAX(January!$C$4:$C$34)","v":80},{"$f":"AVERAGE(January!$C$4:$C$34)","v":80},{"$f":"MIN(January!$C$4:$C$34)","v":80}]
[{"$nulls":4},"midday",{"$f":"MAX(January!$H$4:$H$34)","v":90},{"$f":"AVERAGE(January!$H$4:$H$34)","v":90},{"$f":"MIN(January!$H$4:$H$34)","v":90}]
[{"$nulls":4},"evening",{"$f":"MAX(January!$M$4:$M$34)","v":85},{"$f":"AVERAGE(January!$M$4:$M$34)","v":85},{"$f":"MIN(January!$M$4:$M$34)","v":85}]
[{"$nulls":3},"Pulsee","morning",{"$f":"MAX(January!$D$4:$D$34)","v":96},{"$f":"AVERAGE(January!$D$4:$D$34)","v":96},{"$f":"MIN(January!$D$4:$D$34)","v":96}]
[{"$nulls":4},"midday",{"$f":"MAX(January!$I$4:$I$34)","v":88},{"$f":"AVERAGE(January!$I$4:$I$34)","v":88},{"$f":"MIN(January!$I$4:$I$34)","v":88}]
[{"$nulls":4},"evening",{"$f":"MAX(January!$N$4:$N$34)","v":101},{"$f":"AVERAGE(January!$N$4:$N$34)","v":101},{"$f":"MIN(January!$N$4:$N$34)","v":101}]

{"sheet":"January","index":1,"n_rows":34,"n_cols":20,"rows_kept":34,"merged":[[1,0,1,3],[1,5,1,8],[1,10,1,13]]}
[1]
["morning",{"$nulls":4},"midday",{"$nulls":4},"evening",{"$nulls":5},"Average values","morning","midday","evening"]
["Day","SYS ","DIA ","Pulsee",null,"Day","SYS ","DIA ","Pulsee",null,"Day","SYS ","DIA ","Pulsee",null,null,"Systolic",{"$f":"AVERAGE($B$4:$B$34)","v":130},{"$f":"AVERAGE($G$4:$G$34)","v":135},{"$f":"AVERAGE($L$4:$L$34)","v":124}]
[{"$f":"DATE(Overview!$B$2,January!A1,1)","v":"1900-01-01"},130,80,96,null,{"$f":"DATE(Overview!$B$2,January!$A$1,1)","v":"1900-01-01"},135,90,88,null,{"$f":"DATE(Overview!$B$2,January!$A$1,1)","v":"1900-01-01"},124,85,101,null,null,"Diastolic",{"$f":"AVERAGE($C$4:$C$34)","v":80},{"$f":"AVERAGE($H$4:$H$34)","v":90},{"$f":"AVERAGE($M$4:$M$34)","v":85}]
[{"$f":"A4+1","v":"1900-01-02"},{"$nulls":4},{"$f":"F4+1","v":"1900-01-02"},{"$nulls":4},{"$f":"K4+1","v":"1900-01-02"},{"$nulls":5},"Pulsee",{"$f":"AVERAGE($D$4:$D$34)","v":96},{"$f":"AVERAGE($I$4:$I$34)","v":88},{"$f":"AVERAGE($N$4:$N$34)","v":101}]
["1900-01-03",{"$nulls":4},"1900-01-03",{"$nulls":3},110,"1900-01-03"]
["1900-01-04",{"$nulls":4},"1900-01-04",{"$nulls":4},"1900-01-04",{"$nulls":5},"Highest values","morning","midday","evening"]
["1900-01-05",{"$nulls":4},"1900-01-05",{"$nulls":4},"1900-01-05",{"$nulls":5},"Systolic",{"$f":"MAX($B$4:$B$34)","v":130},{"$f":"MAX($G$4:$G$34)","v":135},{"$f":"MAX($L$4:$L$34)","v":124}]
["1900-01-06",{"$nulls":4},"1900-01-06",{"$nulls":4},"1900-01-06",{"$nulls":5},"Diastolic",{"$f":"MAX($C$4:$C$34)","v":80},{"$f":"MAX($H$4:$H$34)","v":90},{"$f":"MAX($M$4:$M$34)","v":85}]
["1900-01-07",{"$nulls":4},"1900-01-07",{"$nulls":4},"1900-01-07",{"$nulls":5},"Pulsee",{"$f":"MAX($D$4:$D$34)","v":96},{"$f":"MAX($I$4:$I$34)","v":88},{"$f":"MAX($N$4:$N$34)","v":101}]
["1900-01-08",{"$nulls":4},"1900-01-08",{"$nulls":4},"1900-01-08"]
["1900-01-09",{"$nulls":4},"1900-01-09",{"$nulls":4},"1900-01-09",{"$nulls":5},"Lowest values","morning","midday","evening"]
["1900-01-10",{"$nulls":4},"1900-01-10",{"$nulls":4},"1900-01-10",{"$nulls":5},"Systolic",{"$f":"MIN($B$4:$B$34)","v":130},{"$f":"MIN($G$4:$G$34)","v":135},{"$f":"MIN($L$4:$L$34)","v":124}]
["1900-01-11",{"$nulls":4},"1900-01-11",{"$nulls":4},"1900-01-11",{"$nulls":5},"Diastolic",{"$f":"MIN($C$4:$C$34)","v":80},{"$f":"MIN($H$4:$H$34)","v":90},{"$f":"MIN($M$4:$M$34)","v":85}]
["1900-01-12",{"$nulls":4},"1900-01-12",{"$nulls":4},"1900-01-12",{"$nulls":5},"Pulsee",{"$f":"MIN($D$4:$D$34)","v":96},{"$f":"MIN($I$4:$I$34)","v":88},{"$f":"MIN($N$4:$N$34)","v":101}]
["1900-01-13",{"$nulls":4},"1900-01-13",{"$nulls":4},"1900-01-13"]
["1900-01-14",{"$nulls":4},"1900-01-14",{"$nulls":4},"1900-01-14"]
["1900-01-15",{"$nulls":4},"1900-01-15",{"$nulls":4},"1900-01-15"]
["1900-01-16",{"$nulls":4},"1900-01-16",{"$nulls":4},"1900-01-16"]
["1900-01-17",{"$nulls":4},"1900-01-17",{"$nulls":4},"1900-01-17"]
["1900-01-18",{"$nulls":4},"1900-01-18",{"$nulls":4},"1900-01-18"]
["1900-01-19",{"$nulls":4},"1900-01-19",{"$nulls":4},"1900-01-19"]
["1900-01-20",{"$nulls":4},"1900-01-20",{"$nulls":4},"1900-01-20"]
["1900-01-21",{"$nulls":4},"1900-01-21",{"$nulls":4},"1900-01-21"]
["1900-01-22",{"$nulls":4},"1900-01-22",{"$nulls":4},"1900-01-22"]
["1900-01-23",{"$nulls":4},"1900-01-23",{"$nulls":4},"1900-01-23"]
["1900-01-24",{"$nulls":4},"1900-01-24",{"$nulls":4},"1900-01-24"]
["1900-01-25",{"$nulls":4},"1900-01-25",{"$nulls":4},"1900-01-25"]
["1900-01-26",{"$nulls":4},"1900-01-26",{"$nulls":4},"1900-01-26"]
["1900-01-27",{"$nulls":4},"1900-01-27",{"$nulls":4},"1900-01-27"]
["1900-01-28",{"$nulls":4},"1900-01-28",{"$nulls":4},"1900-01-28"]
["1900-01-29",{"$nulls":4},"1900-01-29",{"$nulls":4},"1900-01-29"]
["1900-01-30",{"$nulls":4},"1900-01-30",{"$nulls":4},"1900-01-30"]
["1900-01-31",{"$nulls":4},"1900-01-31",{"$nulls":4},"1900-01-31"]

{"sheet":"February","index":2,"n_rows":34,"n_cols":20,"rows_kept":34,"merged":[[1,0,1,3],[1,5,1,8],[1,10,1,13]]}
[1]
["morning",{"$nulls":4},"midday",{"$nulls":4},"evening",{"$nulls":5},"Average values","morning","midday","evening"]
["Day","SYS ","DIA ","Pulse",null,"Day","SYS","DIA","Pulse",null,"Day","SYS","DIA","Pulse",null,null,"Systolic",{"$f":"AVERAGE($B$4:$B$34)","v":129},{"$f":"AVERAGE($G$4:$G$34)","v":134},{"$f":"AVERAGE($L$4:$L$34)","v":120}]
[{"$f":"DATE(Overview!$B$2,February!A1,1)","v":"1900-01-01"},129,85,94,null,{"$f":"DATE(Overview!$B$2,February!$A$1,1)","v":"1900-01-01"},134,82,95,null,{"$f":"DATE(Overview!$B$2,February!$A$1,1)","v":"1900-01-01"},120,76,100,null,null,"Diastolic",{"$f":"AVERAGE($C$4:$C$34)","v":85},{"$f":"AVERAGE($H$4:$H$34)","v":82},{"$f":"AVERAGE($M$4:$M$34)","v":76}]
[{"$f":"A4+1","v":"1900-01-02"},{"$nulls":4},{"$f":"F4+1","v":"1900-01-02"},{"$nulls":4},{"$f":"K4+1","v":"1900-01-02"},{"$nulls":5},"Pulsee",{"$f":"AVERAGE($D$4:$D$34)","v":94},{"$f":"AVERAGE($I$4:$I$34)","v":95},{"$f":"AVERAGE($N$4:$N$34)","v":100}]
["1900-01-03",{"$nulls":4},"1900-01-03",{"$nulls":3},110,"1900-01-03"]
["1900-01-04",{"$nulls":4},"1900-01-04",{"$nulls":4},"1900-01-04",{"$nulls":5},"Highest values","morning","midday","evening"]
["1900-01-05",{"$nulls":4},"1900-01-05",{"$nulls":4},"1900-01-05",{"$nulls":5},"Systolic",{"$f":"MAX($B$4:$B$34)","v":129},{"$f":"MAX($G$4:$G$34)","v":134},{"$f":"MAX($L$4:$L$34)","v":120}]
["1900-01-06",{"$nulls":4},"1900-01-06",{"$nulls":4},"1900-01-06",{"$nulls":5},"Diastolic",{"$f":"MAX($C$4:$C$34)","v":85},{"$f":"MAX($H$4:$H$34)","v":82},{"$f":"MAX($M$4:$M$34)","v":76}]
["1900-01-07",{"$nulls":4},"1900-01-07",{"$nulls":4},"1900-01-07",{"$nulls":5},"Pulsee",{"$f":"MAX($D$4:$D$34)","v":94},{"$f":"MAX($I$4:$I$34)","v":95},{"$f":"MAX($N$4:$N$34)","v":100}]
["1900-01-08",{"$nulls":4},"1900-01-08",{"$nulls":4},"1900-01-08"]
["1900-01-09",{"$nulls":4},"1900-01-09",{"$nulls":4},"1900-01-09",{"$nulls":5},"Lowest values","morning","midday","evening"]
["1900-01-10",{"$nulls":4},"1900-01-10",{"$nulls":4},"1900-01-10",{"$nulls":5},"Systolic",{"$f":"MIN($B$4:$B$34)","v":129},{"$f":"MIN($G$4:$G$34)","v":134},{"$f":"MIN($L$4:$L$34)","v":120}]
["1900-01-11",{"$nulls":4},"1900-01-11",{"$nulls":4},"1900-01-11",{"$nulls":5},"Diastolic",{"$f":"MIN($C$4:$C$34)","v":85},{"$f":"MIN($H$4:$H$34)","v":82},{"$f":"MIN($M$4:$M$34)","v":76}]
["1900-01-12",{"$nulls":4},"1900-01-12",{"$nulls":4},"1900-01-12",{"$nulls":5},"Pulsee",{"$f":"MIN($D$4:$D$34)","v":94},{"$f":"MIN($I$4:$I$34)","v":95},{"$f":"MIN($N$4:$N$34)","v":100}]
["1900-01-13",{"$nulls":4},"1900-01-13",{"$nulls":4},"1900-01-13"]
["1900-01-14",{"$nulls":4},"1900-01-14",{"$nulls":4},"1900-01-14"]
["1900-01-15",{"$nulls":4},"1900-01-15",{"$nulls":4},"1900-01-15"]
["1900-01-16",{"$nulls":4},"1900-01-16",{"$nulls":4},"1900-01-16"]
["1900-01-17",{"$nulls":4},"1900-01-17",{"$nulls":4},"1900-01-17"]
["1900-01-18",{"$nulls":4},"1900-01-18",{"$nulls":4},"1900-01-18"]
["1900-01-19",{"$nulls":4},"1900-01-19",{"$nulls":4},"1900-01-19"]
["1900-01-20",{"$nulls":4},"1900-01-20",{"$nulls":4},"1900-01-20"]
["1900-01-21",{"$nulls":4},"1900-01-21",{"$nulls":4},"1900-01-21"]
["1900-01-22",{"$nulls":4},"1900-01-22",{"$nulls":4},"1900-01-22"]
["1900-01-23",{"$nulls":4},"1900-01-23",{"$nulls":4},"1900-01-23"]
["1900-01-24",{"$nulls":4},"1900-01-24",{"$nulls":4},"1900-01-24"]
["1900-01-25",{"$nulls":4},"1900-01-25",{"$nulls":4},"1900-01-25"]
["1900-01-26",{"$nulls":4},"1900-01-26",{"$nulls":4},"1900-01-26"]
["1900-01-27",{"$nulls":4},"1900-01-27",{"$nulls":4},"1900-01-27"]
["1900-01-28",{"$nulls":4},"1900-01-28",{"$nulls":4},"1900-01-28"]
["1900-01-29",{"$nulls":4},"1900-01-29",{"$nulls":4},"1900-01-29"]
["1900-01-30",{"$nulls":4},"1900-01-30",{"$nulls":4},"1900-01-30"]
["1900-01-31",{"$nulls":4},"1900-01-31",{"$nulls":4},"1900-01-31"]

{"sheet":"March","index":3,"n_rows":34,"n_cols":20,"rows_kept":34,"merged":[[1,0,1,3],[1,5,1,8],[1,10,1,13]]}
[1]
["morning",{"$nulls":4},"midday",{"$nulls":4},"evening",{"$nulls":5},"Average values","morning","midday","evening"]
["Day","SYS ","DIA ","Pulse",null,"Day","SYS","DIA","Pulse",null,"Day","SYS","DIA","Pulse",null,null,"Systolic",{"$f":"AVERAGE($B$4:$B$34)","v":135},{"$f":"AVERAGE($G$4:$G$34)","v":133},{"$f":"AVERAGE($L$4:$L$34)","v":129}]
[{"$f":"DATE(Overview!$B$2,March!A1,1)","v":"1900-01-01"},135,89,89,null,{"$f":"DATE(Overview!$B$2,March!$A$1,1)","v":"1900-01-01"},133,90,100,null,{"$f":"DATE(Overview!$B$2,March!$A$1,1)","v":"1900-01-01"},129,83,80,null,null,"Diastolic",{"$f":"AVERAGE($C$4:$C$34)","v":89},{"$f":"AVERAGE($H$4:$H$34)","v":90},{"$f":"AVERAGE($M$4:$M$34)","v":83}]
[{"$f":"A4+1","v":"1900-01-02"},{"$nulls":4},{"$f":"F4+1","v":"1900-01-02"},{"$nulls":4},{"$f":"K4+1","v":"1900-01-02"},{"$nulls":5},"Pulse",{"$f":"AVERAGE($D$4:$D$34)","v":89},{"$f":"AVERAGE($I$4:$I$34)","v":100},{"$f":"AVERAGE($N$4:$N$34)","v":80}]
["1900-01-03",{"$nulls":4},"1900-01-03",{"$nulls":3},110,"1900-01-03"]
["1900-01-04",{"$nulls":4},"1900-01-04",{"$nulls":4},"1900-01-04",{"$nulls":5},"Highest values","morning","midday","evening"]
["1900-01-05",{"$nulls":4},"1900-01-05",{"$nulls":4},"1900-01-05",{"$nulls":5},"Systolic",{"$f":"MAX($B$4:$B$34)","v":135},{"$f":"MAX($G$4:$G$34)","v":133},{"$f":"MAX($L$4:$L$34)","v":129}]
["1900-01-06",{"$nulls":4},"1900-01-06",{"$nulls":4},"1900-01-06",{"$nulls":5},"Diastolic",{"$f":"MAX($C$4:$C$34)","v":89},{"$f":"MAX($H$4:$H$34)","v":90},{"$f":"MAX($M$4:$M$34)","v":83}]
["1900-01-07",{"$nulls":4},"1900-01-07",{"$nulls":4},"1900-01-07",{"$nulls":5},"Pulse",{"$f":"MAX($D$4:$D$34)","v":89},{"$f":"MAX($I$4:$I$34)","v":100},{"$f":"MAX($N$4:$N$34)","v":80}]
["1900-01-08",{"$nulls":4},"1900-01-08",{"$nulls":4},"1900-01-08"]
["1900-01-09",{"$nulls":4},"1900-01-09",{"$nulls":4},"1900-01-09",{"$nulls":5},"Lowest values","morning","midday","evening"]
["1900-01-10",{"$nulls":4},"1900-01-10",{"$nulls":4},"1900-01-10",{"$nulls":5},"Systolic",{"$f":"MIN($B$4:$B$34)","v":135},{"$f":"MIN($G$4:$G$34)","v":133},{"$f":"MIN($L$4:$L$34)","v":129}]
["1900-01-11",{"$nulls":4},"1900-01-11",{"$nulls":4},"1900-01-11",{"$nulls":5},"Diastolic",{"$f":"MIN($C$4:$C$34)","v":89},{"$f":"MIN($H$4:$H$34)","v":90},{"$f":"MIN($M$4:$M$34)","v":83}]
["1900-01-12",{"$nulls":4},"1900-01-12",{"$nulls":4},"1900-01-12",{"$nulls":5},"Pulse",{"$f":"MIN($D$4:$D$34)","v":89},{"$f":"MIN($I$4:$I$34)","v":100},{"$f":"MIN($N$4:$N$34)","v":80}]
["1900-01-13",{"$nulls":4},"1900-01-13",{"$nulls":4},"1900-01-13"]
["1900-01-14",{"$nulls":4},"1900-01-14",{"$nulls":4},"1900-01-14"]
["1900-01-15",{"$nulls":4},"1900-01-15",{"$nulls":4},"1900-01-15"]
["1900-01-16",{"$nulls":4},"1900-01-16",{"$nulls":4},"1900-01-16"]
["1900-01-17",{"$nulls":4},"1900-01-17",{"$nulls":4},"1900-01-17"]
["1900-01-18",{"$nulls":4},"1900-01-18",{"$nulls":4},"1900-01-18"]
["1900-01-19",{"$nulls":4},"1900-01-19",{"$nulls":4},"1900-01-19"]
["1900-01-20",{"$nulls":4},"1900-01-20",{"$nulls":4},"1900-01-20"]
["1900-01-21",{"$nulls":4},"1900-01-21",{"$nulls":4},"1900-01-21"]
["1900-01-22",{"$nulls":4},"1900-01-22",{"$nulls":4},"1900-01-22"]
["1900-01-23",{"$nulls":4},"1900-01-23",{"$nulls":4},"1900-01-23"]
["1900-01-24",{"$nulls":4},"1900-01-24",{"$nulls":4},"1900-01-24"]
["1900-01-25",{"$nulls":4},"1900-01-25",{"$nulls":4},"1900-01-25"]
["1900-01-26",{"$nulls":4},"1900-01-26",{"$nulls":4},"1900-01-26"]
["1900-01-27",{"$nulls":4},"1900-01-27",{"$nulls":4},"1900-01-27"]
["1900-01-28",{"$nulls":4},"1900-01-28",{"$nulls":4},"1900-01-28"]
["1900-01-29",{"$nulls":4},"1900-01-29",{"$nulls":4},"1900-01-29"]
["1900-01-30",{"$nulls":4},"1900-01-30",{"$nulls":4},"1900-01-30"]
["1900-01-31",{"$nulls":4},"1900-01-31",{"$nulls":4},"1900-01-31"]

{"sheet":"April","index":4,"n_rows":34,"n_cols":20,"rows_kept":34,"merged":[[1,0,1,3],[1,5,1,8],[1,10,1,13]]}
[1]
["morning",{"$nulls":4},"midday",{"$nulls":4},"evening",{"$nulls":5},"Average values","morning","midday","evening"]
["Day","SYS ","DIA ","Pulse",null,"Day","SYS","DIA","Pulse",null,"Day","SYS","DIA","Pulse",null,null,"Systolic",{"$f":"AVERAGE($B$4:$B$34)","v":131},{"$f":"AVERAGE($G$4:$G$34)","v":137},{"$f":"AVERAGE($L$4:$L$34)","v":128}]
[{"$f":"DATE(Overview!$B$2,April!A1,1)","v":"1900-01-01"},131,85,95,null,{"$f":"DATE(Overview!$B$2,April!$A$1,1)","v":"1900-01-01"},137,87,87,null,{"$f":"DATE(Overview!$B$2,April!$A$1,1)","v":"1900-01-01"},128,82,99,null,null,"Diastolic",{"$f":"AVERAGE($C$4:$C$34)","v":85},{"$f":"AVERAGE($H$4:$H$34)","v":87},{"$f":"AVERAGE($M$4:$M$34)","v":82}]
[{"$f":"A4+1","v":"1900-01-02"},{"$nulls":4},{"$f":"F4+1","v":"1900-01-02"},{"$nulls":4},{"$f":"K4+1","v":"1900-01-02"},{"$nulls":5},"Pulse",{"$f":"AVERAGE($D$4:$D$34)","v":95},{"$f":"AVERAGE($I$4:$I$34)","v":87},{"$f":"AVERAGE($N$4:$N$34)","v":99}]
["1900-01-03",{"$nulls":4},"1900-01-03",{"$nulls":3},110,"1900-01-03"]
["1900-01-04",{"$nulls":4},"1900-01-04",{"$nulls":4},"1900-01-04",{"$nulls":5},"Highest values","morning","midday","evening"]
["1900-01-05",{"$nulls":4},"1900-01-05",{"$nulls":4},"1900-01-05",{"$nulls":5},"Systolic",{"$f":"MAX($B$4:$B$34)","v":131},{"$f":"MAX($G$4:$G$34)","v":137},{"$f":"MAX($L$4:$L$34)","v":128}]
["1900-01-06",{"$nulls":4},"1900-01-06",{"$nulls":4},"1900-01-06",{"$nulls":5},"Diastolic",{"$f":"MAX($C$4:$C$34)","v":85},{"$f":"MAX($H$4:$H$34)","v":87},{"$f":"MAX($M$4:$M$34)","v":82}]
["1900-01-07",{"$nulls":4},"1900-01-07",{"$nulls":4},"1900-01-07",{"$nulls":5},"Pulse",{"$f":"MAX($D$4:$D$34)","v":95},{"$f":"MAX($I$4:$I$34)","v":87},{"$f":"MAX($N$4:$N$34)","v":99}]
["1900-01-08",{"$nulls":4},"1900-01-08",{"$nulls":4},"1900-01-08"]
["1900-01-09",{"$nulls":4},"1900-01-09",{"$nulls":4},"1900-01-09",{"$nulls":5},"Lowest values","morning","midday","evening"]
["1900-01-10",{"$nulls":4},"1900-01-10",{"$nulls":4},"1900-01-10",{"$nulls":5},"Systolic",{"$f":"MIN($B$4:$B$34)","v":131},{"$f":"MIN($G$4:$G$34)","v":137},{"$f":"MIN($L$4:$L$34)","v":128}]
["1900-01-11",{"$nulls":4},"1900-01-11",{"$nulls":4},"1900-01-11",{"$nulls":5},"Diastolic",{"$f":"MIN($C$4:$C$34)","v":85},{"$f":"MIN($H$4:$H$34)","v":87},{"$f":"MIN($M$4:$M$34)","v":82}]
["1900-01-12",{"$nulls":4},"1900-01-12",{"$nulls":4},"1900-01-12",{"$nulls":5},"Pulse",{"$f":"MIN($D$4:$D$34)","v":95},{"$f":"MIN($I$4:$I$34)","v":87},{"$f":"MIN($N$4:$N$34)","v":99}]
["1900-01-13",{"$nulls":4},"1900-01-13",{"$nulls":4},"1900-01-13"]
["1900-01-14",{"$nulls":4},"1900-01-14",{"$nulls":4},"1900-01-14"]
["1900-01-15",{"$nulls":4},"1900-01-15",{"$nulls":4},"1900-01-15"]
["1900-01-16",{"$nulls":4},"1900-01-16",{"$nulls":4},"1900-01-16"]
["1900-01-17",{"$nulls":4},"1900-01-17",{"$nulls":4},"1900-01-17"]
["1900-01-18",{"$nulls":4},"1900-01-18",{"$nulls":4},"1900-01-18"]
["1900-01-19",{"$nulls":4},"1900-01-19",{"$nulls":4},"1900-01-19"]
["1900-01-20",{"$nulls":4},"1900-01-20",{"$nulls":4},"1900-01-20"]
["1900-01-21",{"$nulls":4},"1900-01-21",{"$nulls":4},"1900-01-21"]
["1900-01-22",{"$nulls":4},"1900-01-22",{"$nulls":4},"1900-01-22"]
["1900-01-23",{"$nulls":4},"1900-01-23",{"$nulls":4},"1900-01-23"]
["1900-01-24",{"$nulls":4},"1900-01-24",{"$nulls":4},"1900-01-24"]
["1900-01-25",{"$nulls":4},"1900-01-25",{"$nulls":4},"1900-01-25"]
["1900-01-26",{"$nulls":4},"1900-01-26",{"$nulls":4},"1900-01-26"]
["1900-01-27",{"$nulls":4},"1900-01-27",{"$nulls":4},"1900-01-27"]
["1900-01-28",{"$nulls":4},"1900-01-28",{"$nulls":4},"1900-01-28"]
["1900-01-29",{"$nulls":4},"1900-01-29",{"$nulls":4},"1900-01-29"]
["1900-01-30",{"$nulls":4},"1900-01-30",{"$nulls":4},"1900-01-30"]
["1900-01-31",{"$nulls":4},"1900-01-31",{"$nulls":4},"1900-01-31"]

{"sheet":"May","index":5,"n_rows":34,"n_cols":20,"rows_kept":34,"merged":[[1,0,1,3],[1,5,1,8],[1,10,1,13]]}
[1]
["morning",{"$nulls":4},"midday",{"$nulls":4},"evening",{"$nulls":5},"Average values","morning","midday","evening"]
["Day","SYS ","DIA ","Pulse",null,"Day","SYS","DIA","Pulse",null,"Day","SYS","DIA","Pulse",null,null,"Systolic",{"$f":"AVERAGE($B$4:$B$34)","v":131},{"$f":"AVERAGE($G$4:$G$34)","v":137},{"$f":"AVERAGE($L$4:$L$34)","v":128}]
[{"$f":"DATE(Overview!$B$2,May!A1,1)","v":"1900-01-01"},131,85,95,null,{"$f":"DATE(Overview!$B$2,May!$A$1,1)","v":"1900-01-01"},137,87,87,null,{"$f":"DATE(Overview!$B$2,May!$A$1,1)","v":"1900-01-01"},128,82,99,null,null,"Diastolic",{"$f":"AVERAGE($C$4:$C$34)","v":85},{"$f":"AVERAGE($H$4:$H$34)","v":87},{"$f":"AVERAGE($M$4:$M$34)","v":82}]
[{"$f":"A4+1","v":"1900-01-02"},{"$nulls":4},{"$f":"F4+1","v":"1900-01-02"},{"$nulls":4},{"$f":"K4+1","v":"1900-01-02"},{"$nulls":5},"Pulse",{"$f":"AVERAGE($D$4:$D$34)","v":95},{"$f":"AVERAGE($I$4:$I$34)","v":87},{"$f":"AVERAGE($N$4:$N$34)","v":99}]
["1900-01-03",{"$nulls":4},"1900-01-03",{"$nulls":3},110,"1900-01-03"]
["1900-01-04",{"$nulls":4},"1900-01-04",{"$nulls":4},"1900-01-04",{"$nulls":5},"Highest values","morning","midday","evening"]
["1900-01-05",{"$nulls":4},"1900-01-05",{"$nulls":4},"1900-01-05",{"$nulls":5},"Systolic",{"$f":"MAX($B$4:$B$34)","v":131},{"$f":"MAX($G$4:$G$34)","v":137},{"$f":"MAX($L$4:$L$34)","v":128}]
["1900-01-06",{"$nulls":4},"1900-01-06",{"$nulls":4},"1900-01-06",{"$nulls":5},"Diastolic",{"$f":"MAX($C$4:$C$34)","v":85},{"$f":"MAX($H$4:$H$34)","v":87},{"$f":"MAX($M$4:$M$34)","v":82}]
["1900-01-07",{"$nulls":4},"1900-01-07",{"$nulls":4},"1900-01-07",{"$nulls":5},"Pulse",{"$f":"MAX($D$4:$D$34)","v":95},{"$f":"MAX($I$4:$I$34)","v":87},{"$f":"MAX($N$4:$N$34)","v":99}]
["1900-01-08",{"$nulls":4},"1900-01-08",{"$nulls":4},"1900-01-08"]
["1900-01-09",{"$nulls":4},"1900-01-09",{"$nulls":4},"1900-01-09",{"$nulls":5},"Lowest values","morning","midday","evening"]
["1900-01-10",{"$nulls":4},"1900-01-10",{"$nulls":4},"1900-01-10",{"$nulls":5},"Systolic",{"$f":"MIN($B$4:$B$34)","v":131},{"$f":"MIN($G$4:$G$34)","v":137},{"$f":"MIN($L$4:$L$34)","v":128}]
["1900-01-11",{"$nulls":4},"1900-01-11",{"$nulls":4},"1900-01-11",{"$nulls":5},"Diastolic",{"$f":"MIN($C$4:$C$34)","v":85},{"$f":"MIN($H$4:$H$34)","v":87},{"$f":"MIN($M$4:$M$34)","v":82}]
["1900-01-12",{"$nulls":4},"1900-01-12",{"$nulls":4},"1900-01-12",{"$nulls":5},"Pulse",{"$f":"MIN($D$4:$D$34)","v":95},{"$f":"MIN($I$4:$I$34)","v":87},{"$f":"MIN($N$4:$N$34)","v":99}]
["1900-01-13",{"$nulls":4},"1900-01-13",{"$nulls":4},"1900-01-13"]
["1900-01-14",{"$nulls":4},"1900-01-14",{"$nulls":4},"1900-01-14"]
["1900-01-15",{"$nulls":4},"1900-01-15",{"$nulls":4},"1900-01-15"]
["1900-01-16",{"$nulls":4},"1900-01-16",{"$nulls":4},"1900-01-16"]
["1900-01-17",{"$nulls":4},"1900-01-17",{"$nulls":4},"1900-01-17"]
["1900-01-18",{"$nulls":4},"1900-01-18",{"$nulls":4},"1900-01-18"]
["1900-01-19",{"$nulls":4},"1900-01-19",{"$nulls":4},"1900-01-19"]
["1900-01-20",{"$nulls":4},"1900-01-20",{"$nulls":4},"1900-01-20"]
["1900-01-21",{"$nulls":4},"1900-01-21",{"$nulls":4},"1900-01-21"]
["1900-01-22",{"$nulls":4},"1900-01-22",{"$nulls":4},"1900-01-22"]
["1900-01-23",{"$nulls":4},"1900-01-23",{"$nulls":4},"1900-01-23"]
["1900-01-24",{"$nulls":4},"1900-01-24",{"$nulls":4},"1900-01-24"]
["1900-01-25",{"$nulls":4},"1900-01-25",{"$nulls":4},"1900-01-25"]
["1900-01-26",{"$nulls":4},"1900-01-26",{"$nulls":4},"1900-01-26"]
["1900-01-27",{"$nulls":4},"1900-01-27",{"$nulls":4},"1900-01-27"]
["1900-01-28",{"$nulls":4},"1900-01-28",{"$nulls":4},"1900-01-28"]
["1900-01-29",{"$nulls":4},"1900-01-29",{"$nulls":4},"1900-01-29"]
["1900-01-30",{"$nulls":4},"1900-01-30",{"$nulls":4},"1900-01-30"]
["1900-01-31",{"$nulls":4},"1900-01-31",{"$nulls":4},"1900-01-31"]

{"sheet":"June","index":6,"n_rows":34,"n_cols":20,"rows_kept":34,"merged":[[1,0,1,3],[1,5,1,8],[1,10,1,13]]}
[1]
["morning",{"$nulls":4},"midday",{"$nulls":4},"evening",{"$nulls":5},"Average values","morning","midday"]
["Day","SYS ","DIA ","Pulse",null,"Day","SYS","DIA","Pulse",null,"Day","SYS","DIA","Pulse",null,null,"Systolic",{"$f":"AVERAGE($B$4:$B$34)","v":131},{"$f":"AVERAGE($G$4:$G$34)","v":137},{"$f":"AVERAGE($L$4:$L$34)","v":128}]
[{"$f":"DATE(Overview!$B$2,June!A1,1)","v":"1900-01-01"},131,85,95,null,{"$f":"DATE(Overview!$B$2,June!$A$1,1)","v":"1900-01-01"},137,87,87,null,{"$f":"DATE(Overview!$B$2,June!$A$1,1)","v":"1900-01-01"},128,82,99,null,null,"Diastolic",{"$f":"AVERAGE($C$4:$C$34)","v":85},{"$f":"AVERAGE($H$4:$H$34)","v":87},{"$f":"AVERAGE($M$4:$M$34)","v":82}]
[{"$f":"A4+1","v":"1900-01-02"},{"$nulls":4},{"$f":"F4+1","v":"1900-01-02"},{"$nulls":4},{"$f":"K4+1","v":"1900-01-02"},{"$nulls":5},"Pulse",{"$f":"AVERAGE($D$4:$D$34)","v":95},{"$f":"AVERAGE($I$4:$I$34)","v":87},{"$f":"AVERAGE($N$4:$N$34)","v":99}]
["1900-01-03",{"$nulls":4},"1900-01-03",{"$nulls":3},110,"1900-01-03"]
["1900-01-04",{"$nulls":4},"1900-01-04",{"$nulls":4},"1900-01-04",{"$nulls":5},"Highest values","morning","midday","evening"]
["1900-01-05",{"$nulls":4},"1900-01-05",{"$nulls":4},"1900-01-05",{"$nulls":5},"Systolic",{"$f":"MAX($B$4:$B$34)","v":131},{"$f":"MAX($G$4:$G$34)","v":137},{"$f":"MAX($L$4:$L$34)","v":128}]
["1900-01-06",{"$nulls":4},"1900-01-06",{"$nulls":4},"1900-01-06",{"$nulls":5},"Diastolic",{"$f":"MAX($C$4:$C$34)","v":85},{"$f":"MAX($H$4:$H$34)","v":87},{"$f":"MAX($M$4:$M$34)","v":82}]
["1900-01-07",{"$nulls":4},"1900-01-07",{"$nulls":4},"1900-01-07",{"$nulls":5},"Pulse",{"$f":"MAX($D$4:$D$34)","v":95},{"$f":"MAX($I$4:$I$34)","v":87},{"$f":"MAX($N$4:$N$34)","v":99}]
["1900-01-08",{"$nulls":4},"1900-01-08",{"$nulls":4},"1900-01-08"]
["1900-01-09",{"$nulls":4},"1900-01-09",{"$nulls":4},"1900-01-09",{"$nulls":5},"Lowest values","morning","midday","evening"]
["1900-01-10",{"$nulls":4},"1900-01-10",{"$nulls":4},"1900-01-10",{"$nulls":5},"Systolic",{"$f":"MIN($B$4:$B$34)","v":131},{"$f":"MIN($G$4:$G$34)","v":137},{"$f":"MIN($L$4:$L$34)","v":128}]
["1900-01-11",{"$nulls":4},"1900-01-11",{"$nulls":4},"1900-01-11",{"$nulls":5},"Diastolic",{"$f":"MIN($C$4:$C$34)","v":85},{"$f":"MIN($H$4:$H$34)","v":87},{"$f":"MIN($M$4:$M$34)","v":82}]
["1900-01-12",{"$nulls":4},"1900-01-12",{"$nulls":4},"1900-01-12",{"$nulls":5},"Pulse",{"$f":"MIN($D$4:$D$34)","v":95},{"$f":"MIN($I$4:$I$34)","v":87},{"$f":"MIN($N$4:$N$34)","v":99}]
["1900-01-13",{"$nulls":4},"1900-01-13",{"$nulls":4},"1900-01-13"]
["1900-01-14",{"$nulls":4},"1900-01-14",{"$nulls":4},"1900-01-14"]
["1900-01-15",{"$nulls":4},"1900-01-15",{"$nulls":4},"1900-01-15"]
["1900-01-16",{"$nulls":4},"1900-01-16",{"$nulls":4},"1900-01-16"]
["1900-01-17",{"$nulls":4},"1900-01-17",{"$nulls":4},"1900-01-17"]
["1900-01-18",{"$nulls":4},"1900-01-18",{"$nulls":4},"1900-01-18"]
["1900-01-19",{"$nulls":4},"1900-01-19",{"$nulls":4},"1900-01-19"]
["1900-01-20",{"$nulls":4},"1900-01-20",{"$nulls":4},"1900-01-20"]
["1900-01-21",{"$nulls":4},"1900-01-21",{"$nulls":4},"1900-01-21"]
["1900-01-22",{"$nulls":4},"1900-01-22",{"$nulls":4},"1900-01-22"]
["1900-01-23",{"$nulls":4},"1900-01-23",{"$nulls":4},"1900-01-23"]
["1900-01-24",{"$nulls":4},"1900-01-24",{"$nulls":4},"1900-01-24"]
["1900-01-25",{"$nulls":4},"1900-01-25",{"$nulls":4},"1900-01-25"]
["1900-01-26",{"$nulls":4},"1900-01-26",{"$nulls":4},"1900-01-26"]
["1900-01-27",{"$nulls":4},"1900-01-27",{"$nulls":4},"1900-01-27"]
["1900-01-28",{"$nulls":4},"1900-01-28",{"$nulls":4},"1900-01-28"]
["1900-01-29",{"$nulls":4},"1900-01-29",{"$nulls":4},"1900-01-29"]
["1900-01-30",{"$nulls":4},"1900-01-30",{"$nulls":4},"1900-01-30"]
["1900-01-31",{"$nulls":4},"1900-01-31",{"$nulls":4},"1900-01-31"]

{"sheet":"July","index":7,"n_rows":34,"n_cols":20,"rows_kept":34,"merged":[[1,0,1,3],[1,5,1,8],[1,10,1,13]]}
[1]
["morning",{"$nulls":4},"midday",{"$nulls":4},"evening",{"$nulls":5},"Average values","morning","midday","evening"]
["Day","SYS ","DIA ","Pulse",null,"Day","SYS","DIA","Pulse",null,"Day","SYS","DIA","Pulse",null,null,"Systolic",{"$f":"AVERAGE($B$4:$B$34)","v":131},{"$f":"AVERAGE($G$4:$G$34)","v":137},{"$f":"AVERAGE($L$4:$L$34)","v":128}]
[{"$f":"DATE(Overview!$B$2,July!A1,1)","v":"1900-01-01"},131,85,95,null,{"$f":"DATE(Overview!$B$2,July!$A$1,1)","v":"1900-01-01"},137,87,87,null,{"$f":"DATE(Overview!$B$2,July!$A$1,1)","v":"1900-01-01"},128,82,99,null,null,"Diastolic",{"$f":"AVERAGE($C$4:$C$34)","v":85},{"$f":"AVERAGE($H$4:$H$34)","v":87},{"$f":"AVERAGE($M$4:$M$34)","v":82}]
[{"$f":"A4+1","v":"1900-01-02"},{"$nulls":4},{"$f":"F4+1","v":"1900-01-02"},{"$nulls":4},{"$f":"K4+1","v":"1900-01-02"},{"$nulls":5},"Pulse",{"$f":"AVERAGE($D$4:$D$34)","v":95},{"$f":"AVERAGE($I$4:$I$34)","v":87},{"$f":"AVERAGE($N$4:$N$34)","v":99}]
["1900-01-03",{"$nulls":4},"1900-01-03",{"$nulls":3},110,"1900-01-03"]
["1900-01-04",{"$nulls":4},"1900-01-04",{"$nulls":4},"1900-01-04",{"$nulls":5},"Highest values","morning","midday","evening"]
["1900-01-05",{"$nulls":4},"1900-01-05",{"$nulls":4},"1900-01-05",{"$nulls":5},"Systolic",{"$f":"MAX($B$4:$B$34)","v":131},{"$f":"MAX($G$4:$G$34)","v":137},{"$f":"MAX($L$4:$L$34)","v":128}]
["1900-01-06",{"$nulls":4},"1900-01-06",{"$nulls":4},"1900-01-06",{"$nulls":5},"Diastolic",{"$f":"MAX($C$4:$C$34)","v":85},{"$f":"MAX($H$4:$H$34)","v":87},{"$f":"MAX($M$4:$M$34)","v":82}]
["1900-01-07",{"$nulls":4},"1900-01-07",{"$nulls":4},"1900-01-07",{"$nulls":5},"Pulse",{"$f":"MAX($D$4:$D$34)","v":95},{"$f":"MAX($I$4:$I$34)","v":87},{"$f":"MAX($N$4:$N$34)","v":99}]
["1900-01-08",{"$nulls":4},"1900-01-08",{"$nulls":4},"1900-01-08"]
["1900-01-09",{"$nulls":4},"1900-01-09",{"$nulls":4},"1900-01-09",{"$nulls":5},"Lowest values","morning","midday","evening"]
["1900-01-10",{"$nulls":4},"1900-01-10",{"$nulls":4},"1900-01-10",{"$nulls":5},"Systolic",{"$f":"MIN($B$4:$B$34)","v":131},{"$f":"MIN($G$4:$G$34)","v":137},{"$f":"MIN($L$4:$L$34)","v":128}]
["1900-01-11",{"$nulls":4},"1900-01-11",{"$nulls":4},"1900-01-11",{"$nulls":5},"Diastolic",{"$f":"MIN($C$4:$C$34)","v":85},{"$f":"MIN($H$4:$H$34)","v":87},{"$f":"MIN($M$4:$M$34)","v":82}]
["1900-01-12",{"$nulls":4},"1900-01-12",{"$nulls":4},"1900-01-12",{"$nulls":5},"Pulse",{"$f":"MIN($D$4:$D$34)","v":95},{"$f":"MIN($I$4:$I$34)","v":87},{"$f":"MIN($N$4:$N$34)","v":99}]
["1900-01-13",{"$nulls":4},"1900-01-13",{"$nulls":4},"1900-01-13"]
["1900-01-14",{"$nulls":4},"1900-01-14",{"$nulls":4},"1900-01-14"]
["1900-01-15",{"$nulls":4},"1900-01-15",{"$nulls":4},"1900-01-15"]
["1900-01-16",{"$nulls":4},"1900-01-16",{"$nulls":4},"1900-01-16"]
["1900-01-17",{"$nulls":4},"1900-01-17",{"$nulls":4},"1900-01-17"]
["1900-01-18",{"$nulls":4},"1900-01-18",{"$nulls":4},"1900-01-18"]
["1900-01-19",{"$nulls":4},"1900-01-19",{"$nulls":4},"1900-01-19"]
["1900-01-20",{"$nulls":4},"1900-01-20",{"$nulls":4},"1900-01-20"]
["1900-01-21",{"$nulls":4},"1900-01-21",{"$nulls":4},"1900-01-21"]
["1900-01-22",{"$nulls":4},"1900-01-22",{"$nulls":4},"1900-01-22"]
["1900-01-23",{"$nulls":4},"1900-01-23",{"$nulls":4},"1900-01-23"]
["1900-01-24",{"$nulls":4},"1900-01-24",{"$nulls":4},"1900-01-24"]
["1900-01-25",{"$nulls":4},"1900-01-25",{"$nulls":4},"1900-01-25"]
["1900-01-26",{"$nulls":4},"1900-01-26",{"$nulls":4},"1900-01-26"]
["1900-01-27",{"$nulls":4},"1900-01-27",{"$nulls":4},"1900-01-27"]
["1900-01-28",{"$nulls":4},"1900-01-28",{"$nulls":4},"1900-01-28"]
["1900-01-29",{"$nulls":4},"1900-01-29",{"$nulls":4},"1900-01-29"]
["1900-01-30",{"$nulls":4},"1900-01-30",{"$nulls":4},"1900-01-30"]
["1900-01-31",{"$nulls":4},"1900-01-31",{"$nulls":4},"1900-01-31"]

{"sheet":"August","index":8,"n_rows":34,"n_cols":20,"rows_kept":34,"merged":[[1,0,1,3],[1,5,1,8],[1,10,1,13]]}
[1]
["morning",{"$nulls":4},"midday",{"$nulls":4},"evening",{"$nulls":5},"Average values","morning","midday","evening"]
["Day","SYS ","DIA ","Pulse",null,"Day","SYS","DIA","Pulse",null,"Day","SYS","DIA","Pulse",null,null,"Systolic",{"$f":"AVERAGE($B$4:$B$34)","v":131},{"$f":"AVERAGE($G$4:$G$34)","v":137},{"$f":"AVERAGE($L$4:$L$34)","v":128}]
[{"$f":"DATE(Overview!$B$2,August!A1,1)","v":"1900-01-01"},131,85,95,null,{"$f":"DATE(Overview!$B$2,August!$A$1,1)","v":"1900-01-01"},137,87,87,null,{"$f":"DATE(Overview!$B$2,August!$A$1,1)","v":"1900-01-01"},128,82,99,null,null,"Diastolic",{"$f":"AVERAGE($C$4:$C$34)","v":85},{"$f":"AVERAGE($H$4:$H$34)","v":87},{"$f":"AVERAGE($M$4:$M$34)","v":82}]
[{"$f":"A4+1","v":"1900-01-02"},{"$nulls":4},{"$f":"F4+1","v":"1900-01-02"},{"$nulls":4},{"$f":"K4+1","v":"1900-01-02"},{"$nulls":5},"Pulse",{"$f":"AVERAGE($D$4:$D$34)","v":95},{"$f":"AVERAGE($I$4:$I$34)","v":87},{"$f":"AVERAGE($N$4:$N$34)","v":99}]
["1900-01-03",{"$nulls":4},"1900-01-03",{"$nulls":3},110,"1900-01-03"]
["1900-01-04",{"$nulls":4},"1900-01-04",{"$nulls":4},"1900-01-04",{"$nulls":5},"Highest values","morning","midday","evening"]
["1900-01-05",{"$nulls":4},"1900-01-05",{"$nulls":4},"1900-01-05",{"$nulls":5},"Systolic",{"$f":"MAX($B$4:$B$34)","v":131},{"$f":"MAX($G$4:$G$34)","v":137},{"$f":"MAX($L$4:$L$34)","v":128}]
["1900-01-06",{"$nulls":4},"1900-01-06",{"$nulls":4},"1900-01-06",{"$nulls":5},"Diastolic",{"$f":"MAX($C$4:$C$34)","v":85},{"$f":"MAX($H$4:$H$34)","v":87},{"$f":"MAX($M$4:$M$34)","v":82}]
["1900-01-07",{"$nulls":4},"1900-01-07",{"$nulls":4},"1900-01-07",{"$nulls":5},"Pulse",{"$f":"MAX($D$4:$D$34)","v":95},{"$f":"MAX($I$4:$I$34)","v":87},{"$f":"MAX($N$4:$N$34)","v":99}]
["1900-01-08",{"$nulls":4},"1900-01-08",{"$nulls":4},"1900-01-08"]
["1900-01-09",{"$nulls":4},"1900-01-09",{"$nulls":4},"1900-01-09",{"$nulls":5},"Lowest values","morning","midday","evening"]
["1900-01-10",{"$nulls":4},"1900-01-10",{"$nulls":4},"1900-01-10",{"$nulls":5},"Systolic",{"$f":"MIN($B$4:$B$34)","v":131},{"$f":"MIN($G$4:$G$34)","v":137},{"$f":"MIN($L$4:$L$34)","v":128}]
["1900-01-11",{"$nulls":4},"1900-01-11",{"$nulls":4},"1900-01-11",{"$nulls":5},"Diastolic",{"$f":"MIN($C$4:$C$34)","v":85},{"$f":"MIN($H$4:$H$34)","v":87},{"$f":"MIN($M$4:$M$34)","v":82}]
["1900-01-12",{"$nulls":4},"1900-01-12",{"$nulls":4},"1900-01-12",{"$nulls":5},"Pulse",{"$f":"MIN($D$4:$D$34)","v":95},{"$f":"MIN($I$4:$I$34)","v":87},{"$f":"MIN($N$4:$N$34)","v":99}]
["1900-01-13",{"$nulls":4},"1900-01-13",{"$nulls":4},"1900-01-13"]
["1900-01-14",{"$nulls":4},"1900-01-14",{"$nulls":4},"1900-01-14"]
["1900-01-15",{"$nulls":4},"1900-01-15",{"$nulls":4},"1900-01-15"]
["1900-01-16",{"$nulls":4},"1900-01-16",{"$nulls":4},"1900-01-16"]
["1900-01-17",{"$nulls":4},"1900-01-17",{"$nulls":4},"1900-01-17"]
["1900-01-18",{"$nulls":4},"1900-01-18",{"$nulls":4},"1900-01-18"]
["1900-01-19",{"$nulls":4},"1900-01-19",{"$nulls":4},"1900-01-19"]
["1900-01-20",{"$nulls":4},"1900-01-20",{"$nulls":4},"1900-01-20"]
["1900-01-21",{"$nulls":4},"1900-01-21",{"$nulls":4},"1900-01-21"]
["1900-01-22",{"$nulls":4},"1900-01-22",{"$nulls":4},"1900-01-22"]
["1900-01-23",{"$nulls":4},"1900-01-23",{"$nulls":4},"1900-01-23"]
["1900-01-24",{"$nulls":4},"1900-01-24",{"$nulls":4},"1900-01-24"]
["1900-01-25",{"$nulls":4},"1900-01-25",{"$nulls":4},"1900-01-25"]
["1900-01-26",{"$nulls":4},"1900-01-26",{"$nulls":4},"1900-01-26"]
["1900-01-27",{"$nulls":4},"1900-01-27",{"$nulls":4},"1900-01-27"]
["1900-01-28",{"$nulls":4},"1900-01-28",{"$nulls":4},"1900-01-28"]
["1900-01-29",{"$nulls":4},"1900-01-29",{"$nulls":4},"1900-01-29"]
["1900-01-30",{"$nulls":4},"1900-01-30",{"$nulls":4},"1900-01-30"]
["1900-01-31",{"$nulls":4},"1900-01-31",{"$nulls":4},"1900-01-31"]

{"sheet":"September","index":9,"n_rows":34,"n_cols":20,"rows_kept":34,"merged":[[1,0,1,3],[1,5,1,8],[1,10,1,13]]}
[1]
["morning",{"$nulls":4},"midday",{"$nulls":4},"evening",{"$nulls":5},"Average values","morning","midday","evening"]
["Day","SYS ","DIA ","Pulse",null,"Day","SYS","DIA","Pulse",null,"Day","SYS","DIA","Pulse",null,null,"Systolic",{"$f":"AVERAGE($B$4:$B$34)","v":131},{"$f":"AVERAGE($G$4:$G$34)","v":137},{"$f":"AVERAGE($L$4:$L$34)","v":128}]
[{"$f":"DATE(Overview!$B$2,September!A1,1)","v":"1900-01-01"},131,85,95,null,{"$f":"DATE(Overview!$B$2,September!$A$1,1)","v":"1900-01-01"},137,87,87,null,{"$f":"DATE(Overview!$B$2,September!$A$1,1)","v":"1900-01-01"},128,82,99,null,null,"Diastolic",{"$f":"AVERAGE($C$4:$C$34)","v":85},{"$f":"AVERAGE($H$4:$H$34)","v":87},{"$f":"AVERAGE($M$4:$M$34)","v":82}]
[{"$f":"A4+1","v":"1900-01-02"},{"$nulls":4},{"$f":"F4+1","v":"1900-01-02"},{"$nulls":4},{"$f":"K4+1","v":"1900-01-02"},{"$nulls":5},"Pulse",{"$f":"AVERAGE($D$4:$D$34)","v":95},{"$f":"AVERAGE($I$4:$I$34)","v":87},{"$f":"AVERAGE($N$4:$N$34)","v":99}]
["1900-01-03",{"$nulls":4},"1900-01-03",{"$nulls":3},110,"1900-01-03"]
["1900-01-04",{"$nulls":4},"1900-01-04",{"$nulls":4},"1900-01-04",{"$nulls":5},"Highest values","morning","midday","evening"]
["1900-01-05",{"$nulls":4},"1900-01-05",{"$nulls":4},"1900-01-05",{"$nulls":5},"Systolic",{"$f":"MAX($B$4:$B$34)","v":131},{"$f":"MAX($G$4:$G$34)","v":137},{"$f":"MAX($L$4:$L$34)","v":128}]
["1900-01-06",{"$nulls":4},"1900-01-06",{"$nulls":4},"1900-01-06",{"$nulls":5},"Diastolic",{"$f":"MAX($C$4:$C$34)","v":85},{"$f":"MAX($H$4:$H$34)","v":87},{"$f":"MAX($M$4:$M$34)","v":82}]
["1900-01-07",{"$nulls":4},"1900-01-07",{"$nulls":4},"1900-01-07",{"$nulls":5},"Pulse",{"$f":"MAX($D$4:$D$34)","v":95},{"$f":"MAX($I$4:$I$34)","v":87},{"$f":"MAX($N$4:$N$34)","v":99}]
["1900-01-08",{"$nulls":4},"1900-01-08",{"$nulls":4},"1900-01-08"]
["1900-01-09",{"$nulls":4},"1900-01-09",{"$nulls":4},"1900-01-09",{"$nulls":5},"Lowest values","morning","midday","evening"]
["1900-01-10",{"$nulls":4},"1900-01-10",{"$nulls":4},"1900-01-10",{"$nulls":5},"Systolic",{"$f":"MIN($B$4:$B$34)","v":131},{"$f":"MIN($G$4:$G$34)","v":137},{"$f":"MIN($L$4:$L$34)","v":128}]
["1900-01-11",{"$nulls":4},"1900-01-11",{"$nulls":4},"1900-01-11",{"$nulls":5},"Diastolic",{"$f":"MIN($C$4:$C$34)","v":85},{"$f":"MIN($H$4:$H$34)","v":87},{"$f":"MIN($M$4:$M$34)","v":82}]
["1900-01-12",{"$nulls":4},"1900-01-12",{"$nulls":4},"1900-01-12",{"$nulls":5},"Pulse",{"$f":"MIN($D$4:$D$34)","v":95},{"$f":"MIN($I$4:$I$34)","v":87},{"$f":"MIN($N$4:$N$34)","v":99}]
["1900-01-13",{"$nulls":4},"1900-01-13",{"$nulls":4},"1900-01-13"]
["1900-01-14",{"$nulls":4},"1900-01-14",{"$nulls":4},"1900-01-14"]
["1900-01-15",{"$nulls":4},"1900-01-15",{"$nulls":4},"1900-01-15"]
["1900-01-16",{"$nulls":4},"1900-01-16",{"$nulls":4},"1900-01-16"]
["1900-01-17",{"$nulls":4},"1900-01-17",{"$nulls":4},"1900-01-17"]
["1900-01-18",{"$nulls":4},"1900-01-18",{"$nulls":4},"1900-01-18"]
["1900-01-19",{"$nulls":4},"1900-01-19",{"$nulls":4},"1900-01-19"]
["1900-01-20",{"$nulls":4},"1900-01-20",{"$nulls":4},"1900-01-20"]
["1900-01-21",{"$nulls":4},"1900-01-21",{"$nulls":4},"1900-01-21"]
["1900-01-22",{"$nulls":4},"1900-01-22",{"$nulls":4},"1900-01-22"]
["1900-01-23",{"$nulls":4},"1900-01-23",{"$nulls":4},"1900-01-23"]
["1900-01-24",{"$nulls":4},"1900-01-24",{"$nulls":4},"1900-01-24"]
["1900-01-25",{"$nulls":4},"1900-01-25",{"$nulls":4},"1900-01-25"]
["1900-01-26",{"$nulls":4},"1900-01-26",{"$nulls":4},"1900-01-26"]
["1900-01-27",{"$nulls":4},"1900-01-27",{"$nulls":4},"1900-01-27"]
["1900-01-28",{"$nulls":4},"1900-01-28",{"$nulls":4},"1900-01-28"]
["1900-01-29",{"$nulls":4},"1900-01-29",{"$nulls":4},"1900-01-29"]
["1900-01-30",{"$nulls":4},"1900-01-30",{"$nulls":4},"1900-01-30"]
["1900-01-31",{"$nulls":4},"1900-01-31",{"$nulls":4},"1900-01-31"]

{"sheet":"October","index":10,"n_rows":34,"n_cols":20,"rows_kept":34,"merged":[[1,0,1,3],[1,5,1,8],[1,10,1,13]]}
[1]
["morning",{"$nulls":4},"midday",{"$nulls":4},"evening",{"$nulls":5},"Average values","morning","midday","evening"]
["Day","SYS ","DIA ","Pulse",null,"Day","SYS","DIA","Pulse",null,"Day","SYS","DIA","Pulse",null,null,"Systolic",{"$f":"AVERAGE($B$4:$B$34)","v":131},{"$f":"AVERAGE($G$4:$G$34)","v":137},{"$f":"AVERAGE($L$4:$L$34)","v":128}]
[{"$f":"DATE(Overview!$B$2,October!A1,1)","v":"1900-01-01"},131,85,95,null,{"$f":"DATE(Overview!$B$2,October!$A$1,1)","v":"1900-01-01"},137,87,87,null,{"$f":"DATE(Overview!$B$2,October!$A$1,1)","v":"1900-01-01"},128,82,99,null,null,"Diastolic",{"$f":"AVERAGE($C$4:$C$34)","v":85},{"$f":"AVERAGE($H$4:$H$34)","v":87},{"$f":"AVERAGE($M$4:$M$34)","v":82}]
[{"$f":"A4+1","v":"1900-01-02"},{"$nulls":4},{"$f":"F4+1","v":"1900-01-02"},{"$nulls":4},{"$f":"K4+1","v":"1900-01-02"},{"$nulls":5},"Pulse",{"$f":"AVERAGE($D$4:$D$34)","v":95},{"$f":"AVERAGE($I$4:$I$34)","v":87},{"$f":"AVERAGE($N$4:$N$34)","v":99}]
["1900-01-03",{"$nulls":4},"1900-01-03",{"$nulls":3},110,"1900-01-03"]
["1900-01-04",{"$nulls":4},"1900-01-04",{"$nulls":4},"1900-01-04",{"$nulls":5},"Highest values","morning","midday","evening"]
["1900-01-05",{"$nulls":4},"1900-01-05",{"$nulls":4},"1900-01-05",{"$nulls":5},"Systolic",{"$f":"MAX($B$4:$B$34)","v":131},{"$f":"MAX($G$4:$G$34)","v":137},{"$f":"MAX($L$4:$L$34)","v":128}]
["1900-01-06",{"$nulls":4},"1900-01-06",{"$nulls":4},"1900-01-06",{"$nulls":5},"Diastolic",{"$f":"MAX($C$4:$C$34)","v":85},{"$f":"MAX($H$4:$H$34)","v":87},{"$f":"MAX($M$4:$M$34)","v":82}]
["1900-01-07",{"$nulls":4},"1900-01-07",{"$nulls":4},"1900-01-07",{"$nulls":5},"Pulse",{"$f":"MAX($D$4:$D$34)","v":95},{"$f":"MAX($I$4:$I$34)","v":87},{"$f":"MAX($N$4:$N$34)","v":99}]
["1900-01-08",{"$nulls":4},"1900-01-08",{"$nulls":4},"1900-01-08"]
["1900-01-09",{"$nulls":4},"1900-01-09",{"$nulls":4},"1900-01-09",{"$nulls":5},"Lowest values","morning","midday","evening"]
["1900-01-10",{"$nulls":4},"1900-01-10",{"$nulls":4},"1900-01-10",{"$nulls":5},"Systolic",{"$f":"MIN($B$4:$B$34)","v":131},{"$f":"MIN($G$4:$G$34)","v":137},{"$f":"MIN($L$4:$L$34)","v":128}]
["1900-01-11",{"$nulls":4},"1900-01-11",{"$nulls":4},"1900-01-11",{"$nulls":5},"Diastolic",{"$f":"MIN($C$4:$C$34)","v":85},{"$f":"MIN($H$4:$H$34)","v":87},{"$f":"MIN($M$4:$M$34)","v":82}]
["1900-01-12",{"$nulls":4},"1900-01-12",{"$nulls":4},"1900-01-12",{"$nulls":5},"Pulse",{"$f":"MIN($D$4:$D$34)","v":95},{"$f":"MIN($I$4:$I$34)","v":87},{"$f":"MIN($N$4:$N$34)","v":99}]
["1900-01-13",{"$nulls":4},"1900-01-13",{"$nulls":4},"1900-01-13"]
["1900-01-14",{"$nulls":4},"1900-01-14",{"$nulls":4},"1900-01-14"]
["1900-01-15",{"$nulls":4},"1900-01-15",{"$nulls":4},"1900-01-15"]
["1900-01-16",{"$nulls":4},"1900-01-16",{"$nulls":4},"1900-01-16"]
["1900-01-17",{"$nulls":4},"1900-01-17",{"$nulls":4},"1900-01-17"]
["1900-01-18",{"$nulls":4},"1900-01-18",{"$nulls":4},"1900-01-18"]
["1900-01-19",{"$nulls":4},"1900-01-19",{"$nulls":4},"1900-01-19"]
["1900-01-20",{"$nulls":4},"1900-01-20",{"$nulls":4},"1900-01-20"]
["1900-01-21",{"$nulls":4},"1900-01-21",{"$nulls":4},"1900-01-21"]
["1900-01-22",{"$nulls":4},"1900-01-22",{"$nulls":4},"1900-01-22"]
["1900-01-23",{"$nulls":4},"1900-01-23",{"$nulls":4},"1900-01-23"]
["1900-01-24",{"$nulls":4},"1900-01-24",{"$nulls":4},"1900-01-24"]
["1900-01-25",{"$nulls":4},"1900-01-25",{"$nulls":4},"1900-01-25"]
["1900-01-26",{"$nulls":4},"1900-01-26",{"$nulls":4},"1900-01-26"]
["1900-01-27",{"$nulls":4},"1900-01-27",{"$nulls":4},"1900-01-27"]
["1900-01-28",{"$nulls":4},"1900-01-28",{"$nulls":4},"1900-01-28"]
["1900-01-29",{"$nulls":4},"1900-01-29",{"$nulls":4},"1900-01-29"]
["1900-01-30",{"$nulls":4},"1900-01-30",{"$nulls":4},"1900-01-30"]
["1900-01-31",{"$nulls":4},"1900-01-31",{"$nulls":4},"1900-01-31"]

{"sheet":"November","index":11,"n_rows":34,"n_cols":20,"rows_kept":34,"merged":[[1,0,1,3],[1,5,1,8],[1,10,1,13]]}
[1]
["morning",{"$nulls":4},"midday",{"$nulls":4},"evening",{"$nulls":5},"Average values","morning","midday","evening"]
["Day","SYS ","DIA ","Pulse",null,"Day","SYS","DIA","Pulse",null,"Day","SYS","DIA","Pulse",null,null,"Systolic",{"$f":"AVERAGE($B$4:$B$34)","v":131},{"$f":"AVERAGE($G$4:$G$34)","v":137},{"$f":"AVERAGE($L$4:$L$34)","v":128}]
[{"$f":"DATE(Overview!$B$2,November!A1,1)","v":"1900-01-01"},131,85,95,null,{"$f":"DATE(Overview!$B$2,November!$A$1,1)","v":"1900-01-01"},137,87,87,null,{"$f":"DATE(Overview!$B$2,November!$A$1,1)","v":"1900-01-01"},128,82,99,null,null,"Diastolic",{"$f":"AVERAGE($C$4:$C$34)","v":85},{"$f":"AVERAGE($H$4:$H$34)","v":87},{"$f":"AVERAGE($M$4:$M$34)","v":82}]
[{"$f":"A4+1","v":"1900-01-02"},{"$nulls":4},{"$f":"F4+1","v":"1900-01-02"},{"$nulls":4},{"$f":"K4+1","v":"1900-01-02"},{"$nulls":5},"Pulse",{"$f":"AVERAGE($D$4:$D$34)","v":95},{"$f":"AVERAGE($I$4:$I$34)","v":87},{"$f":"AVERAGE($N$4:$N$34)","v":99}]
["1900-01-03",{"$nulls":4},"1900-01-03",{"$nulls":3},110,"1900-01-03"]
["1900-01-04",{"$nulls":4},"1900-01-04",{"$nulls":4},"1900-01-04",{"$nulls":5},"Highest values","morning","midday","evening"]
["1900-01-05",{"$nulls":4},"1900-01-05",{"$nulls":4},"1900-01-05",{"$nulls":5},"Systolic",{"$f":"MAX($B$4:$B$34)","v":131},{"$f":"MAX($G$4:$G$34)","v":137},{"$f":"MAX($L$4:$L$34)","v":128}]
["1900-01-06",{"$nulls":4},"1900-01-06",{"$nulls":4},"1900-01-06",{"$nulls":5},"Diastolic",{"$f":"MAX($C$4:$C$34)","v":85},{"$f":"MAX($H$4:$H$34)","v":87},{"$f":"MAX($M$4:$M$34)","v":82}]
["1900-01-07",{"$nulls":4},"1900-01-07",{"$nulls":4},"1900-01-07",{"$nulls":5},"Pulse",{"$f":"MAX($D$4:$D$34)","v":95},{"$f":"MAX($I$4:$I$34)","v":87},{"$f":"MAX($N$4:$N$34)","v":99}]
["1900-01-08",{"$nulls":4},"1900-01-08",{"$nulls":4},"1900-01-08"]
["1900-01-09",{"$nulls":4},"1900-01-09",{"$nulls":4},"1900-01-09",{"$nulls":5},"Lowest values","morning","midday","evening"]
["1900-01-10",{"$nulls":4},"1900-01-10",{"$nulls":4},"1900-01-10",{"$nulls":5},"Systolic",{"$f":"MIN($B$4:$B$34)","v":131},{"$f":"MIN($G$4:$G$34)","v":137},{"$f":"MIN($L$4:$L$34)","v":128}]
["1900-01-11",{"$nulls":4},"1900-01-11",{"$nulls":4},"1900-01-11",{"$nulls":5},"Diastolic",{"$f":"MIN($C$4:$C$34)","v":85},{"$f":"MIN($H$4:$H$34)","v":87},{"$f":"MIN($M$4:$M$34)","v":82}]
["1900-01-12",{"$nulls":4},"1900-01-12",{"$nulls":4},"1900-01-12",{"$nulls":5},"Pulse",{"$f":"MIN($D$4:$D$34)","v":95},{"$f":"MIN($I$4:$I$34)","v":87},{"$f":"MIN($N$4:$N$34)","v":99}]
["1900-01-13",{"$nulls":4},"1900-01-13",{"$nulls":4},"1900-01-13"]
["1900-01-14",{"$nulls":4},"1900-01-14",{"$nulls":4},"1900-01-14"]
["1900-01-15",{"$nulls":4},"1900-01-15",{"$nulls":4},"1900-01-15"]
["1900-01-16",{"$nulls":4},"1900-01-16",{"$nulls":4},"1900-01-16"]
["1900-01-17",{"$nulls":4},"1900-01-17",{"$nulls":4},"1900-01-17"]
["1900-01-18",{"$nulls":4},"1900-01-18",{"$nulls":4},"1900-01-18"]
["1900-01-19",{"$nulls":4},"1900-01-19",{"$nulls":4},"1900-01-19"]
["1900-01-20",{"$nulls":4},"1900-01-20",{"$nulls":4},"1900-01-20"]
["1900-01-21",{"$nulls":4},"1900-01-21",{"$nulls":4},"1900-01-21"]
["1900-01-22",{"$nulls":4},"1900-01-22",{"$nulls":4},"1900-01-22"]
["1900-01-23",{"$nulls":4},"1900-01-23",{"$nulls":4},"1900-01-23"]
["1900-01-24",{"$nulls":4},"1900-01-24",{"$nulls":4},"1900-01-24"]
["1900-01-25",{"$nulls":4},"1900-01-25",{"$nulls":4},"1900-01-25"]
["1900-01-26",{"$nulls":4},"1900-01-26",{"$nulls":4},"1900-01-26"]
["1900-01-27",{"$nulls":4},"1900-01-27",{"$nulls":4},"1900-01-27"]
["1900-01-28",{"$nulls":4},"1900-01-28",{"$nulls":4},"1900-01-28"]
["1900-01-29",{"$nulls":4},"1900-01-29",{"$nulls":4},"1900-01-29"]
["1900-01-30",{"$nulls":4},"1900-01-30",{"$nulls":4},"1900-01-30"]
["1900-01-31",{"$nulls":4},"1900-01-31",{"$nulls":4},"1900-01-31"]

{"sheet":"December","index":12,"n_rows":34,"n_cols":20,"rows_kept":34,"merged":[[1,0,1,3],[1,5,1,8],[1,10,1,13]]}
[1]
["morning",{"$nulls":4},"midday",{"$nulls":4},"evening",{"$nulls":5},"Average values","morning","midday","evening"]
["Day","SYS ","DIA ","Pulse",null,"Day","SYS","DIA","Pulse",null,"Day","SYS","DIA","Pulse",null,null,"Systolic",{"$f":"AVERAGE($B$4:$B$34)","v":131},{"$f":"AVERAGE($G$4:$G$34)","v":137},{"$f":"AVERAGE($L$4:$L$34)","v":128}]
[{"$f":"DATE(Overview!$B$2,December!A1,1)","v":"1900-01-01"},131,85,95,null,{"$f":"DATE(Overview!$B$2,December!$A$1,1)","v":"1900-01-01"},137,87,87,null,{"$f":"DATE(Overview!$B$2,December!$A$1,1)","v":"1900-01-01"},128,82,99,null,null,"Diastolic",{"$f":"AVERAGE($C$4:$C$34)","v":85},{"$f":"AVERAGE($H$4:$H$34)","v":87},{"$f":"AVERAGE($M$4:$M$34)","v":82}]
[{"$f":"A4+1","v":"1900-01-02"},{"$nulls":4},{"$f":"F4+1","v":"1900-01-02"},{"$nulls":4},{"$f":"K4+1","v":"1900-01-02"},{"$nulls":5},"Pulse",{"$f":"AVERAGE($D$4:$D$34)","v":95},{"$f":"AVERAGE($I$4:$I$34)","v":87},{"$f":"AVERAGE($N$4:$N$34)","v":99}]
["1900-01-03",{"$nulls":4},"1900-01-03",{"$nulls":3},110,"1900-01-03"]
["1900-01-04",{"$nulls":4},"1900-01-04",{"$nulls":4},"1900-01-04",{"$nulls":5},"Highest values","morning","midday","evening"]
["1900-01-05",{"$nulls":4},"1900-01-05",{"$nulls":4},"1900-01-05",{"$nulls":5},"Systolic",{"$f":"MAX($B$4:$B$34)","v":131},{"$f":"MAX($G$4:$G$34)","v":137},{"$f":"MAX($L$4:$L$34)","v":128}]
["1900-01-06",{"$nulls":4},"1900-01-06",{"$nulls":4},"1900-01-06",{"$nulls":5},"Diastolic",{"$f":"MAX($C$4:$C$34)","v":85},{"$f":"MAX($H$4:$H$34)","v":87},{"$f":"MAX($M$4:$M$34)","v":82}]
["1900-01-07",{"$nulls":4},"1900-01-07",{"$nulls":4},"1900-01-07",{"$nulls":5},"Pulse",{"$f":"MAX($D$4:$D$34)","v":95},{"$f":"MAX($I$4:$I$34)","v":87},{"$f":"MAX($N$4:$N$34)","v":99}]
["1900-01-08",{"$nulls":4},"1900-01-08",{"$nulls":4},"1900-01-08"]
["1900-01-09",{"$nulls":4},"1900-01-09",{"$nulls":4},"1900-01-09",{"$nulls":5},"Lowest values","morning","midday","evening"]
["1900-01-10",{"$nulls":4},"1900-01-10",{"$nulls":4},"1900-01-10",{"$nulls":5},"Systolic",{"$f":"MIN($B$4:$B$34)","v":131},{"$f":"MIN($G$4:$G$34)","v":137},{"$f":"MIN($L$4:$L$34)","v":128}]
["1900-01-11",{"$nulls":4},"1900-01-11",{"$nulls":4},"1900-01-11",{"$nulls":5},"Diastolic",{"$f":"MIN($C$4:$C$34)","v":85},{"$f":"MIN($H$4:$H$34)","v":87},{"$f":"MIN($M$4:$M$34)","v":82}]
["1900-01-12",{"$nulls":4},"1900-01-12",{"$nulls":4},"1900-01-12",{"$nulls":5},"Pulse",{"$f":"MIN($D$4:$D$34)","v":95},{"$f":"MIN($I$4:$I$34)","v":87},{"$f":"MIN($N$4:$N$34)","v":99}]
["1900-01-13",{"$nulls":4},"1900-01-13",{"$nulls":4},"1900-01-13"]
["1900-01-14",{"$nulls":4},"1900-01-14",{"$nulls":4},"1900-01-14"]
["1900-01-15",{"$nulls":4},"1900-01-15",{"$nulls":4},"1900-01-15"]
["1900-01-16",{"$nulls":4},"1900-01-16",{"$nulls":4},"1900-01-16"]
["1900-01-17",{"$nulls":4},"1900-01-17",{"$nulls":4},"1900-01-17"]
["1900-01-18",{"$nulls":4},"1900-01-18",{"$nulls":4},"1900-01-18"]
["1900-01-19",{"$nulls":4},"1900-01-19",{"$nulls":4},"1900-01-19"]
["1900-01-20",{"$nulls":4},"1900-01-20",{"$nulls":4},"1900-01-20"]
["1900-01-21",{"$nulls":4},"1900-01-21",{"$nulls":4},"1900-01-21"]
["1900-01-22",{"$nulls":4},"1900-01-22",{"$nulls":4},"1900-01-22"]
["1900-01-23",{"$nulls":4},"1900-01-23",{"$nulls":4},"1900-01-23"]
["1900-01-24",{"$nulls":4},"1900-01-24",{"$nulls":4},"1900-01-24"]
["1900-01-25",{"$nulls":4},"1900-01-25",{"$nulls":4},"1900-01-25"]
["1900-01-26",{"$nulls":4},"1900-01-26",{"$nulls":4},"1900-01-26"]
["1900-01-27",{"$nulls":4},"1900-01-27",{"$nulls":4},"1900-01-27"]
["1900-01-28",{"$nulls":4},"1900-01-28",{"$nulls":4},"1900-01-28"]
["1900-01-29",{"$nulls":4},"1900-01-29",{"$nulls":4},"1900-01-29"]
["1900-01-30",{"$nulls":4},"1900-01-30",{"$nulls":4},"1900-01-30"]
["1900-01-31",{"$nulls":4},"1900-01-31",{"$nulls":4},"1900-01-31"]